BEGIN:VCALENDAR
VERSION:2.0
PRODID:-//The Atria - ECPv6.9.0//NONSGML v1.0//EN
CALSCALE:GREGORIAN
METHOD:PUBLISH
X-WR-CALNAME:The Atria
X-ORIGINAL-URL:https://theatria.ca
X-WR-CALDESC:Events for The Atria
REFRESH-INTERVAL;VALUE=DURATION:PT1H
X-Robots-Tag:noindex
X-PUBLISHED-TTL:PT1H
BEGIN:VTIMEZONE
TZID:UTC
BEGIN:STANDARD
TZOFFSETFROM:+0000
TZOFFSETTO:+0000
TZNAME:UTC
DTSTART:20250101T000000
END:STANDARD
END:VTIMEZONE
BEGIN:VEVENT
DTSTART;TZID=UTC:20250905T210000
DTEND;TZID=UTC:20250906T010000
DTSTAMP:20260419T185948
CREATED:20250828T144051Z
LAST-MODIFIED:20250828T144051Z
UID:2283-1757106000-1757120400@theatria.ca
SUMMARY:Steady Burn with Spiral Palace\, Kill Death Radio
DESCRIPTION:
URL:https://theatria.ca/event/steady-burn-with-spiral-palace-kill-death-radio/
END:VEVENT
BEGIN:VEVENT
DTSTART;TZID=UTC:20250906T210000
DTEND;TZID=UTC:20250907T010000
DTSTAMP:20260419T185948
CREATED:20250828T144431Z
LAST-MODIFIED:20250828T144431Z
UID:2286-1757192400-1757206800@theatria.ca
SUMMARY:Taking Balfour\, Invocate\, Bad Look\, Lesions
DESCRIPTION:
URL:https://theatria.ca/event/taking-balfour-invocate-bad-look-lesions/
END:VEVENT
BEGIN:VEVENT
DTSTART;TZID=UTC:20250909T210000
DTEND;TZID=UTC:20250910T000000
DTSTAMP:20260419T185948
CREATED:20250828T145613Z
LAST-MODIFIED:20250828T145613Z
UID:2290-1757451600-1757462400@theatria.ca
SUMMARY:Wood Hawk with Prince Nothing \, HWY 0
DESCRIPTION:
URL:https://theatria.ca/event/wood-hawk-with-prince-nothing-hwy-0/
END:VEVENT
BEGIN:VEVENT
DTSTART;TZID=UTC:20250912T210000
DTEND;TZID=UTC:20250913T010000
DTSTAMP:20260419T185948
CREATED:20250828T232104Z
LAST-MODIFIED:20250828T232104Z
UID:2292-1757710800-1757725200@theatria.ca
SUMMARY:Colleen & The Bleeding Hearts
DESCRIPTION:
URL:https://theatria.ca/event/colleen-the-bleeding-hearts/
END:VEVENT
BEGIN:VEVENT
DTSTART;TZID=UTC:20250913T210000
DTEND;TZID=UTC:20250914T010000
DTSTAMP:20260419T185948
CREATED:20250828T232516Z
LAST-MODIFIED:20250828T232516Z
UID:2296-1757797200-1757811600@theatria.ca
SUMMARY:Flight Risk\, Zen Slap\, Tyler Zoras
DESCRIPTION:
URL:https://theatria.ca/event/flight-risk-zen-slap-tyler-zoras/
END:VEVENT
BEGIN:VEVENT
DTSTART;TZID=UTC:20250919T210000
DTEND;TZID=UTC:20250920T010000
DTSTAMP:20260419T185948
CREATED:20250828T232642Z
LAST-MODIFIED:20250905T122340Z
UID:2298-1758315600-1758330000@theatria.ca
SUMMARY:Sixth Sense Band
DESCRIPTION:
URL:https://theatria.ca/event/six-sense-band/
END:VEVENT
BEGIN:VEVENT
DTSTART;TZID=UTC:20250920T080000
DTEND;TZID=UTC:20250921T010000
DTSTAMP:20260419T185948
CREATED:20250828T233036Z
LAST-MODIFIED:20250912T202714Z
UID:2302-1758355200-1758416400@theatria.ca
SUMMARY:The Commune\, Proof of Dog\, Super Star Crush
DESCRIPTION:
URL:https://theatria.ca/event/the-commune-proof-of-dog-super-star-crush/
END:VEVENT
BEGIN:VEVENT
DTSTART;TZID=UTC:20250926T210000
DTEND;TZID=UTC:20250927T010000
DTSTAMP:20260419T185948
CREATED:20250828T232840Z
LAST-MODIFIED:20250828T232840Z
UID:2300-1758920400-1758934800@theatria.ca
SUMMARY:Cupids Heart\, Queens & Kings\, O Stella
DESCRIPTION:
URL:https://theatria.ca/event/cupids-heart-queens-kings-o-stella/
END:VEVENT
BEGIN:VEVENT
DTSTART;TZID=UTC:20250927T090000
DTEND;TZID=UTC:20250928T010000
DTSTAMP:20260419T185948
CREATED:20250828T233359Z
LAST-MODIFIED:20250828T233359Z
UID:2304-1758963600-1759021200@theatria.ca
SUMMARY:Godzilla was too Drunk to Destroy Tokyo
DESCRIPTION:
URL:https://theatria.ca/event/godzilla-was-too-drunk-to-destroy-tokyo/
END:VEVENT
END:VCALENDAR