BEGIN:VCALENDAR
VERSION:2.0
PRODID:-//The Atria - ECPv6.9.0//NONSGML v1.0//EN
CALSCALE:GREGORIAN
METHOD:PUBLISH
X-WR-CALNAME:The Atria
X-ORIGINAL-URL:https://theatria.ca
X-WR-CALDESC:Events for The Atria
REFRESH-INTERVAL;VALUE=DURATION:PT1H
X-Robots-Tag:noindex
X-PUBLISHED-TTL:PT1H
BEGIN:VTIMEZONE
TZID:UTC
BEGIN:STANDARD
TZOFFSETFROM:+0000
TZOFFSETTO:+0000
TZNAME:UTC
DTSTART:20250101T000000
END:STANDARD
END:VTIMEZONE
BEGIN:VEVENT
DTSTART;TZID=UTC:20250606T210000
DTEND;TZID=UTC:20250607T010000
DTSTAMP:20260419T232840
CREATED:20250426T023009Z
LAST-MODIFIED:20250426T023009Z
UID:2226-1749243600-1749258000@theatria.ca
SUMMARY:GREEND' EH a tribute to Green Day
DESCRIPTION:
URL:https://theatria.ca/event/greend-eh-a-tribute-to-green-day/
END:VEVENT
BEGIN:VEVENT
DTSTART;TZID=UTC:20250607T210000
DTEND;TZID=UTC:20250608T010000
DTSTAMP:20260419T232840
CREATED:20250426T023809Z
LAST-MODIFIED:20250426T023809Z
UID:2228-1749330000-1749344400@theatria.ca
SUMMARY:Ryan Zig and the Zags
DESCRIPTION:
URL:https://theatria.ca/event/ryan-zig-and-the-zags/
END:VEVENT
BEGIN:VEVENT
DTSTART;TZID=UTC:20250614T210000
DTEND;TZID=UTC:20250615T010000
DTSTAMP:20260419T232840
CREATED:20250426T134707Z
LAST-MODIFIED:20250522T151910Z
UID:2249-1749934800-1749949200@theatria.ca
SUMMARY:Stonefree \, The Dead Drops\, Free Couch\, Bluff
DESCRIPTION:
URL:https://theatria.ca/event/stonefree-the-dead-drops/
END:VEVENT
BEGIN:VEVENT
DTSTART;TZID=UTC:20250620T203000
DTEND;TZID=UTC:20250621T010000
DTSTAMP:20260419T232840
CREATED:20250522T152136Z
LAST-MODIFIED:20250522T152136Z
UID:2261-1750451400-1750467600@theatria.ca
SUMMARY:Jackson Begley Release Party
DESCRIPTION:
URL:https://theatria.ca/event/jackson-begley-release-party/
END:VEVENT
BEGIN:VEVENT
DTSTART;TZID=UTC:20250621T210000
DTEND;TZID=UTC:20250622T010000
DTSTAMP:20260419T232840
CREATED:20250426T134918Z
LAST-MODIFIED:20250616T171951Z
UID:2251-1750539600-1750554000@theatria.ca
SUMMARY:Ritch Mitchell \, Swixblade\, The Sleeves
DESCRIPTION:
URL:https://theatria.ca/event/the-ritch-mitchell-band-swixblade-the-sleeves/
END:VEVENT
BEGIN:VEVENT
DTSTART;TZID=UTC:20250627T080000
DTEND;TZID=UTC:20250628T010000
DTSTAMP:20260419T232840
CREATED:20250426T135047Z
LAST-MODIFIED:20250426T135047Z
UID:2253-1751011200-1751072400@theatria.ca
SUMMARY:Vs the Borg\, Mooch
DESCRIPTION:
URL:https://theatria.ca/event/vs-the-borg-mooch/
END:VEVENT
END:VCALENDAR