BEGIN:VCALENDAR
VERSION:2.0
PRODID:-//The Atria - ECPv6.9.0//NONSGML v1.0//EN
CALSCALE:GREGORIAN
METHOD:PUBLISH
X-WR-CALNAME:The Atria
X-ORIGINAL-URL:https://theatria.ca
X-WR-CALDESC:Events for The Atria
REFRESH-INTERVAL;VALUE=DURATION:PT1H
X-Robots-Tag:noindex
X-PUBLISHED-TTL:PT1H
BEGIN:VTIMEZONE
TZID:UTC
BEGIN:STANDARD
TZOFFSETFROM:+0000
TZOFFSETTO:+0000
TZNAME:UTC
DTSTART:20250101T000000
END:STANDARD
END:VTIMEZONE
BEGIN:VEVENT
DTSTART;TZID=UTC:20250201T210000
DTEND;TZID=UTC:20250202T010000
DTSTAMP:20260420T055931
CREATED:20241203T145945Z
LAST-MODIFIED:20250108T145057Z
UID:2153-1738443600-1738458000@theatria.ca
SUMMARY:The Ritsons\, The Hoax\, Kasador
DESCRIPTION:
URL:https://theatria.ca/event/the-ritsons-the-hoax/
END:VEVENT
BEGIN:VEVENT
DTSTART;TZID=UTC:20250206T210000
DTEND;TZID=UTC:20250207T010000
DTSTAMP:20260420T055931
CREATED:20241203T150046Z
LAST-MODIFIED:20241218T122304Z
UID:2155-1738875600-1738890000@theatria.ca
SUMMARY:The Sun Junkies\, Nerima\, Naked Burn
DESCRIPTION:
URL:https://theatria.ca/event/the-sun-junkies-nerima-naked-burn/
END:VEVENT
BEGIN:VEVENT
DTSTART;TZID=UTC:20250207T210000
DTEND;TZID=UTC:20250208T010000
DTSTAMP:20260420T055931
CREATED:20250108T145737Z
LAST-MODIFIED:20250108T145737Z
UID:2176-1738962000-1738976400@theatria.ca
SUMMARY:Solid\, Blues Junkies\, True North
DESCRIPTION:
URL:https://theatria.ca/event/solid-blues-junkies-true-north/
END:VEVENT
BEGIN:VEVENT
DTSTART;TZID=UTC:20250208T210000
DTEND;TZID=UTC:20250209T010000
DTSTAMP:20260420T055931
CREATED:20241203T150239Z
LAST-MODIFIED:20241203T150239Z
UID:2157-1739048400-1739062800@theatria.ca
SUMMARY:DEERFEST
DESCRIPTION:
URL:https://theatria.ca/event/deerfest/
END:VEVENT
BEGIN:VEVENT
DTSTART;TZID=UTC:20250221T210000
DTEND;TZID=UTC:20250222T010000
DTSTAMP:20260420T055931
CREATED:20241203T150338Z
LAST-MODIFIED:20250108T145940Z
UID:2159-1740171600-1740186000@theatria.ca
SUMMARY:The Lookout Services\, Daggy\, Wolves on Tape
DESCRIPTION:
URL:https://theatria.ca/event/the-lookout-services/
END:VEVENT
BEGIN:VEVENT
DTSTART;TZID=UTC:20250228T210000
DTEND;TZID=UTC:20250301T010000
DTSTAMP:20260420T055931
CREATED:20250212T151048Z
LAST-MODIFIED:20250212T151048Z
UID:2191-1740776400-1740790800@theatria.ca
SUMMARY:The Dusty Miller Band
DESCRIPTION:Performing the best in rock and Blues
URL:https://theatria.ca/event/the-dusty-miller-band-3/
END:VEVENT
END:VCALENDAR