BEGIN:VCALENDAR
VERSION:2.0
PRODID:-//The Atria - ECPv6.9.0//NONSGML v1.0//EN
CALSCALE:GREGORIAN
METHOD:PUBLISH
X-ORIGINAL-URL:https://theatria.ca
X-WR-CALDESC:Events for The Atria
REFRESH-INTERVAL;VALUE=DURATION:PT1H
X-Robots-Tag:noindex
X-PUBLISHED-TTL:PT1H
BEGIN:VTIMEZONE
TZID:UTC
BEGIN:STANDARD
TZOFFSETFROM:+0000
TZOFFSETTO:+0000
TZNAME:UTC
DTSTART:20240101T000000
END:STANDARD
END:VTIMEZONE
BEGIN:VEVENT
DTSTART;TZID=UTC:20241101T210000
DTEND;TZID=UTC:20241101T210000
DTSTAMP:20260420T102153
CREATED:20240930T165445Z
LAST-MODIFIED:20240930T165445Z
UID:2114-1730494800-1730494800@theatria.ca
SUMMARY:Local Prospects with tba
DESCRIPTION:
URL:https://theatria.ca/event/local-prospects-with-tba/
END:VEVENT
BEGIN:VEVENT
DTSTART;TZID=UTC:20241108T210000
DTEND;TZID=UTC:20241109T010000
DTSTAMP:20260420T102153
CREATED:20240820T142741Z
LAST-MODIFIED:20240820T142741Z
UID:2074-1731099600-1731114000@theatria.ca
SUMMARY:Mixed Signal\, Stoked
DESCRIPTION:
URL:https://theatria.ca/event/mixed-signal-stoked/
END:VEVENT
BEGIN:VEVENT
DTSTART;TZID=UTC:20241113T210000
DTEND;TZID=UTC:20241114T010000
DTSTAMP:20260420T102153
CREATED:20240902T141122Z
LAST-MODIFIED:20240930T165652Z
UID:2093-1731531600-1731546000@theatria.ca
SUMMARY:Wedding with Foster McFee\, Jules Mc Cools
DESCRIPTION:
URL:https://theatria.ca/event/wedding/
END:VEVENT
BEGIN:VEVENT
DTSTART;TZID=UTC:20241115T210000
DTEND;TZID=UTC:20241116T010000
DTSTAMP:20260420T102153
CREATED:20240820T142905Z
LAST-MODIFIED:20240820T142905Z
UID:2076-1731704400-1731718800@theatria.ca
SUMMARY:The Dusty Miller band
DESCRIPTION:
URL:https://theatria.ca/event/the-dusty-miller-band-2/
END:VEVENT
BEGIN:VEVENT
DTSTART;TZID=UTC:20241116T210000
DTEND;TZID=UTC:20241117T010000
DTSTAMP:20260420T102153
CREATED:20240820T143011Z
LAST-MODIFIED:20240930T171627Z
UID:2078-1731790800-1731805200@theatria.ca
SUMMARY:Jeff Gutteridge\, The Howlin Gales\, Mavis\, Koncepts
DESCRIPTION:
URL:https://theatria.ca/event/jeff-gutteridge/
END:VEVENT
BEGIN:VEVENT
DTSTART;TZID=UTC:20241122T210000
DTEND;TZID=UTC:20241123T010000
DTSTAMP:20260420T102153
CREATED:20240930T174615Z
LAST-MODIFIED:20240930T174615Z
UID:2139-1732309200-1732323600@theatria.ca
SUMMARY:Anti Social Surf Club\, Byrdy
DESCRIPTION:
URL:https://theatria.ca/event/anti-social-surf-club-byrdy/
END:VEVENT
BEGIN:VEVENT
DTSTART;TZID=UTC:20241123T210000
DTEND;TZID=UTC:20241124T010000
DTSTAMP:20260420T102153
CREATED:20240820T143122Z
LAST-MODIFIED:20240930T172612Z
UID:2080-1732395600-1732410000@theatria.ca
SUMMARY:My Own Addiction\, Beyond Driven\, Lucid Heist
DESCRIPTION:
URL:https://theatria.ca/event/my-own-addiction/
END:VEVENT
BEGIN:VEVENT
DTSTART;TZID=UTC:20241129T210000
DTEND;TZID=UTC:20241130T010000
DTSTAMP:20260420T102153
CREATED:20240820T143303Z
LAST-MODIFIED:20240930T173109Z
UID:2082-1732914000-1732928400@theatria.ca
SUMMARY:The Zoobombs with The Sham Family \, Beef Boys
DESCRIPTION:
URL:https://theatria.ca/event/the-zoobombs/
END:VEVENT
BEGIN:VEVENT
DTSTART;TZID=UTC:20241130T210000
DTEND;TZID=UTC:20241201T010000
DTSTAMP:20260420T102153
CREATED:20240902T141321Z
LAST-MODIFIED:20240930T173420Z
UID:2095-1733000400-1733014800@theatria.ca
SUMMARY:Wolves on Tape EP release show with Static Point \, True North
DESCRIPTION:
URL:https://theatria.ca/event/true-north/
END:VEVENT
END:VCALENDAR