BEGIN:VCALENDAR
VERSION:2.0
PRODID:-//The Atria - ECPv6.9.0//NONSGML v1.0//EN
CALSCALE:GREGORIAN
METHOD:PUBLISH
X-WR-CALNAME:The Atria
X-ORIGINAL-URL:https://theatria.ca
X-WR-CALDESC:Events for The Atria
REFRESH-INTERVAL;VALUE=DURATION:PT1H
X-Robots-Tag:noindex
X-PUBLISHED-TTL:PT1H
BEGIN:VTIMEZONE
TZID:UTC
BEGIN:STANDARD
TZOFFSETFROM:+0000
TZOFFSETTO:+0000
TZNAME:UTC
DTSTART:20240101T000000
END:STANDARD
END:VTIMEZONE
BEGIN:VEVENT
DTSTART;TZID=UTC:20241004T210000
DTEND;TZID=UTC:20241005T010000
DTSTAMP:20260420T113853
CREATED:20240808T143241Z
LAST-MODIFIED:20240930T163027Z
UID:2051-1728075600-1728090000@theatria.ca
SUMMARY:Vinyl Hero with Sunday Riot Club \, Cudbear
DESCRIPTION:
URL:https://theatria.ca/event/vinyl-hero-with-tba/
END:VEVENT
BEGIN:VEVENT
DTSTART;TZID=UTC:20241005T210000
DTEND;TZID=UTC:20241006T010000
DTSTAMP:20260420T113853
CREATED:20240808T143512Z
LAST-MODIFIED:20240930T163628Z
UID:2053-1728162000-1728176400@theatria.ca
SUMMARY:CNTRL\, Incarnatus\, Injour Blood\, SAVELENE
DESCRIPTION:
URL:https://theatria.ca/event/cntrl-with-tba/
END:VEVENT
BEGIN:VEVENT
DTSTART;TZID=UTC:20241011T210000
DTEND;TZID=UTC:20241012T010000
DTSTAMP:20260420T113853
CREATED:20240808T143648Z
LAST-MODIFIED:20240930T164152Z
UID:2055-1728680400-1728694800@theatria.ca
SUMMARY:Filthy with Incoming Sun\, Bloody Munroe
DESCRIPTION:
URL:https://theatria.ca/event/late-night-drive-filthy-incoming-sun/
END:VEVENT
BEGIN:VEVENT
DTSTART;TZID=UTC:20241012T210000
DTEND;TZID=UTC:20241013T010000
DTSTAMP:20260420T113853
CREATED:20240808T143838Z
LAST-MODIFIED:20240930T164447Z
UID:2057-1728766800-1728781200@theatria.ca
SUMMARY:No Small Affair \, 7 DAY Riot\, King Moon Racer
DESCRIPTION:
URL:https://theatria.ca/event/no-small-affair-with-tba/
END:VEVENT
BEGIN:VEVENT
DTSTART;TZID=UTC:20241018T210000
DTEND;TZID=UTC:20241019T010000
DTSTAMP:20260420T113853
CREATED:20240820T142027Z
LAST-MODIFIED:20240930T175107Z
UID:2068-1729285200-1729299600@theatria.ca
SUMMARY:Circle The City\, Mother 77
DESCRIPTION:
URL:https://theatria.ca/event/circle-the-city/
END:VEVENT
BEGIN:VEVENT
DTSTART;TZID=UTC:20241019T210000
DTEND;TZID=UTC:20241020T010000
DTSTAMP:20260420T113853
CREATED:20240820T142244Z
LAST-MODIFIED:20241015T132828Z
UID:2070-1729371600-1729386000@theatria.ca
SUMMARY:Brave Strangers a tribute to Bob Seger & The Last of The Duke Street Kings- A tribute to Bruce Springsteen And Bob Se
DESCRIPTION:https://www.eventbrite.ca/e/bruce-springsteen-bob-seger-tribute-tickets-1014214030467?aff=oddtdtcreator
URL:https://theatria.ca/event/the-last-of-the-duke-street-kings-a-tribute-to-bruce-springsteen/
END:VEVENT
BEGIN:VEVENT
DTSTART;TZID=UTC:20241025T210000
DTEND;TZID=UTC:20241026T010000
DTSTAMP:20260420T113853
CREATED:20240902T140525Z
LAST-MODIFIED:20240902T140525Z
UID:2091-1729890000-1729904400@theatria.ca
SUMMARY:Pangea Project\, Burning Bridges
DESCRIPTION:
URL:https://theatria.ca/event/pangea-project-burning-bridges/
END:VEVENT
BEGIN:VEVENT
DTSTART;TZID=UTC:20241026T210000
DTEND;TZID=UTC:20241027T010000
DTSTAMP:20260420T113853
CREATED:20240820T142600Z
LAST-MODIFIED:20240820T142600Z
UID:2072-1729976400-1729990800@theatria.ca
SUMMARY:Byrdy\, Frail Fragment\, Android Meme\, Phantom High
DESCRIPTION:
URL:https://theatria.ca/event/byrdy-frail-fragment-android-meme-phantom-high/
END:VEVENT
END:VCALENDAR