BEGIN:VCALENDAR
VERSION:2.0
PRODID:-//The Atria - ECPv6.9.0//NONSGML v1.0//EN
CALSCALE:GREGORIAN
METHOD:PUBLISH
X-WR-CALNAME:The Atria
X-ORIGINAL-URL:https://theatria.ca
X-WR-CALDESC:Events for The Atria
REFRESH-INTERVAL;VALUE=DURATION:PT1H
X-Robots-Tag:noindex
X-PUBLISHED-TTL:PT1H
BEGIN:VTIMEZONE
TZID:UTC
BEGIN:STANDARD
TZOFFSETFROM:+0000
TZOFFSETTO:+0000
TZNAME:UTC
DTSTART:20240101T000000
END:STANDARD
END:VTIMEZONE
BEGIN:VEVENT
DTSTART;TZID=UTC:20240906T210000
DTEND;TZID=UTC:20240907T010000
DTSTAMP:20260420T130221
CREATED:20240808T141442Z
LAST-MODIFIED:20240808T141442Z
UID:2037-1725656400-1725670800@theatria.ca
SUMMARY:Derev with 7 Day Riot and The Ritsons
DESCRIPTION:
URL:https://theatria.ca/event/derev-with-7-day-riot-and-the-ritsons/
END:VEVENT
BEGIN:VEVENT
DTSTART;TZID=UTC:20240907T210000
DTEND;TZID=UTC:20240908T010000
DTSTAMP:20260420T130221
CREATED:20240808T141648Z
LAST-MODIFIED:20240819T230503Z
UID:2039-1725742800-1725757200@theatria.ca
SUMMARY:Crast with Bad Sally\, Cudbear
DESCRIPTION:
URL:https://theatria.ca/event/crast-with-bad-sally/
END:VEVENT
BEGIN:VEVENT
DTSTART;TZID=UTC:20240908T160000
DTEND;TZID=UTC:20240908T210000
DTSTAMP:20260420T130221
CREATED:20240821T150058Z
LAST-MODIFIED:20240821T150058Z
UID:2084-1725811200-1725829200@theatria.ca
SUMMARY:All Ages Sunday with Dead Silence\, Plague Beach\, Late Night Drive\, Incoming Sun
DESCRIPTION:
URL:https://theatria.ca/event/all-ages-sunday-with-dead-silence-plague-beach-late-night-drive-incoming-sun/
END:VEVENT
BEGIN:VEVENT
DTSTART;TZID=UTC:20240913T210000
DTEND;TZID=UTC:20240914T010000
DTSTAMP:20260420T130221
CREATED:20240808T141949Z
LAST-MODIFIED:20240808T141949Z
UID:2041-1726261200-1726275600@theatria.ca
SUMMARY:Filthy\, Pangea Project\, Mic Fiends
DESCRIPTION:
URL:https://theatria.ca/event/filthy-pangea-project-mic-fiends/
END:VEVENT
BEGIN:VEVENT
DTSTART;TZID=UTC:20240914T210000
DTEND;TZID=UTC:20240915T010000
DTSTAMP:20260420T130221
CREATED:20240820T140733Z
LAST-MODIFIED:20240820T140733Z
UID:2063-1726347600-1726362000@theatria.ca
SUMMARY:The Howlin Gales
DESCRIPTION:
URL:https://theatria.ca/event/the-howlin-gales/
END:VEVENT
BEGIN:VEVENT
DTSTART;TZID=UTC:20240920T210000
DTEND;TZID=UTC:20240921T210000
DTSTAMP:20260420T130221
CREATED:20240820T140956Z
LAST-MODIFIED:20240820T140956Z
UID:2065-1726866000-1726952400@theatria.ca
SUMMARY:Cadilac Blood \, 7 Day Riot\, The Ceremony
DESCRIPTION:
URL:https://theatria.ca/event/cadilac-blood-7-day-riot-the-ceremony/
END:VEVENT
BEGIN:VEVENT
DTSTART;TZID=UTC:20240921T200000
DTEND;TZID=UTC:20240922T010000
DTSTAMP:20260420T130221
CREATED:20240808T142633Z
LAST-MODIFIED:20240808T142633Z
UID:2044-1726948800-1726966800@theatria.ca
SUMMARY:Joan Smith and the Jane Does\, The Commune\, NERiMA
DESCRIPTION:
URL:https://theatria.ca/event/joan-smith-and-the-jane-does-the-commune-nerima/
END:VEVENT
BEGIN:VEVENT
DTSTART;TZID=UTC:20240926T210000
DTEND;TZID=UTC:20240927T010000
DTSTAMP:20260420T130221
CREATED:20240902T135830Z
LAST-MODIFIED:20240902T135830Z
UID:2089-1727384400-1727398800@theatria.ca
SUMMARY:The Devils Sons\, Bloody Blue Darlings\, Sydney Riley
DESCRIPTION:
URL:https://theatria.ca/event/the-devils-sons-bloody-blue-darlings-sydney-riley/
END:VEVENT
BEGIN:VEVENT
DTSTART;TZID=UTC:20240927T210000
DTEND;TZID=UTC:20240928T010000
DTSTAMP:20260420T130221
CREATED:20240808T142905Z
LAST-MODIFIED:20240902T134650Z
UID:2047-1727470800-1727485200@theatria.ca
SUMMARY:The Reed Affect\, Rockshawa
DESCRIPTION:
URL:https://theatria.ca/event/the-reed-affect-2/
END:VEVENT
BEGIN:VEVENT
DTSTART;TZID=UTC:20240928T210000
DTEND;TZID=UTC:20240929T010000
DTSTAMP:20260420T130221
CREATED:20240808T143100Z
LAST-MODIFIED:20240820T141833Z
UID:2049-1727557200-1727571600@theatria.ca
SUMMARY:Sublunox\, Stellar Ash\, My Own Addiction
DESCRIPTION:
URL:https://theatria.ca/event/sublunox-with-tba/
END:VEVENT
END:VCALENDAR