BEGIN:VCALENDAR
VERSION:2.0
PRODID:-//The Atria - ECPv6.9.0//NONSGML v1.0//EN
CALSCALE:GREGORIAN
METHOD:PUBLISH
X-ORIGINAL-URL:https://theatria.ca
X-WR-CALDESC:Events for The Atria
REFRESH-INTERVAL;VALUE=DURATION:PT1H
X-Robots-Tag:noindex
X-PUBLISHED-TTL:PT1H
BEGIN:VTIMEZONE
TZID:UTC
BEGIN:STANDARD
TZOFFSETFROM:+0000
TZOFFSETTO:+0000
TZNAME:UTC
DTSTART:20240101T000000
END:STANDARD
END:VTIMEZONE
BEGIN:VEVENT
DTSTART;TZID=UTC:20240808T080000
DTEND;TZID=UTC:20240808T170000
DTSTAMP:20260420T141234
CREATED:20240808T140804Z
LAST-MODIFIED:20240808T140804Z
UID:2029-1723104000-1723136400@theatria.ca
SUMMARY:Stoned and Rolling a tribute to the Rolling Stones
DESCRIPTION:
URL:https://theatria.ca/event/stoned-and-rolling-a-tribute-to-the-rolling-stones/
END:VEVENT
BEGIN:VEVENT
DTSTART;TZID=UTC:20240809T210000
DTEND;TZID=UTC:20240810T010000
DTSTAMP:20260420T141234
CREATED:20240808T131716Z
LAST-MODIFIED:20240808T131716Z
UID:2012-1723237200-1723251600@theatria.ca
SUMMARY:Buttercup and Myke and the Mod Villains
DESCRIPTION:
URL:https://theatria.ca/event/buttercup-and-myke-and-the-mod-villains/
END:VEVENT
BEGIN:VEVENT
DTSTART;TZID=UTC:20240810T210000
DTEND;TZID=UTC:20240811T010000
DTSTAMP:20260420T141234
CREATED:20240808T131904Z
LAST-MODIFIED:20240808T131904Z
UID:2014-1723323600-1723338000@theatria.ca
SUMMARY:Static Point\, The Commune\, Wolves on Tape
DESCRIPTION:Screenshot
URL:https://theatria.ca/event/static-point-the-commune-wolves-on-tape/
END:VEVENT
BEGIN:VEVENT
DTSTART;TZID=UTC:20240813T210000
DTEND;TZID=UTC:20240814T000000
DTSTAMP:20260420T141234
CREATED:20240808T132749Z
LAST-MODIFIED:20240808T133143Z
UID:2017-1723582800-1723593600@theatria.ca
SUMMARY:Meteor Heist \, Sydney Riley\, Jules McCools
DESCRIPTION:
URL:https://theatria.ca/event/meteor-heist-sydney-riley-jules-mccools/
END:VEVENT
BEGIN:VEVENT
DTSTART;TZID=UTC:20240816T210000
DTEND;TZID=UTC:20240817T010000
DTSTAMP:20260420T141234
CREATED:20240808T133426Z
LAST-MODIFIED:20240808T133426Z
UID:2020-1723842000-1723856400@theatria.ca
SUMMARY:RPO\, 7 Day Riot\, Gypsy Brydge\, King Moonracer
DESCRIPTION:
URL:https://theatria.ca/event/rpo-7-day-riot-gypsy-brydge-king-moonracer/
END:VEVENT
BEGIN:VEVENT
DTSTART;TZID=UTC:20240817T210000
DTEND;TZID=UTC:20240818T010000
DTSTAMP:20260420T141234
CREATED:20240808T134042Z
LAST-MODIFIED:20240808T134042Z
UID:2022-1723928400-1723942800@theatria.ca
SUMMARY:Valyear with Revmatic
DESCRIPTION:
URL:https://theatria.ca/event/valyear-with-revmatic/
END:VEVENT
BEGIN:VEVENT
DTSTART;TZID=UTC:20240818T190000
DTEND;TZID=UTC:20240818T213000
DTSTAMP:20260420T141234
CREATED:20240808T134721Z
LAST-MODIFIED:20240808T134721Z
UID:2025-1724007600-1724016600@theatria.ca
SUMMARY:Beyond the Call \, World Outside\, A Former Friend
DESCRIPTION:All ages event
URL:https://theatria.ca/event/beyond-the-call-world-outside-a-former-friend/
END:VEVENT
BEGIN:VEVENT
DTSTART;TZID=UTC:20240822T213000
DTEND;TZID=UTC:20240823T000000
DTSTAMP:20260420T141234
CREATED:20240808T135701Z
LAST-MODIFIED:20240808T135701Z
UID:2027-1724362200-1724371200@theatria.ca
SUMMARY:Customer Service
DESCRIPTION:
URL:https://theatria.ca/event/customer-service/
END:VEVENT
BEGIN:VEVENT
DTSTART;TZID=UTC:20240824T210000
DTEND;TZID=UTC:20240825T010000
DTSTAMP:20260420T141234
CREATED:20240819T230424Z
LAST-MODIFIED:20240819T230424Z
UID:2060-1724533200-1724547600@theatria.ca
SUMMARY:Stoned and Rolling - a tribute to the Rolling Stones
DESCRIPTION:
URL:https://theatria.ca/event/stoned-and-rolling-a-tribute-to-the-rolling-stones-2/
END:VEVENT
BEGIN:VEVENT
DTSTART;TZID=UTC:20240830T213000
DTEND;TZID=UTC:20240831T013000
DTSTAMP:20260420T141234
CREATED:20240808T140935Z
LAST-MODIFIED:20240808T140935Z
UID:2032-1725053400-1725067800@theatria.ca
SUMMARY:Something from Nothing a tribute to the Foo Fighters
DESCRIPTION:
URL:https://theatria.ca/event/something-from-nothing-a-tribute-to-the-foo-fighters-3/
END:VEVENT
BEGIN:VEVENT
DTSTART;TZID=UTC:20240831T210000
DTEND;TZID=UTC:20240901T010000
DTSTAMP:20260420T141234
CREATED:20240808T141249Z
LAST-MODIFIED:20240808T141249Z
UID:2034-1725138000-1725152400@theatria.ca
SUMMARY:All Bark No Bite\, The Rough Go\, Free Couch\, Queens and Kings
DESCRIPTION:
URL:https://theatria.ca/event/all-bark-no-bite-the-rough-go-free-couch-queens-and-kings/
END:VEVENT
END:VCALENDAR