BEGIN:VCALENDAR
VERSION:2.0
PRODID:-//The Atria - ECPv6.9.0//NONSGML v1.0//EN
CALSCALE:GREGORIAN
METHOD:PUBLISH
X-WR-CALNAME:The Atria
X-ORIGINAL-URL:https://theatria.ca
X-WR-CALDESC:Events for The Atria
REFRESH-INTERVAL;VALUE=DURATION:PT1H
X-Robots-Tag:noindex
X-PUBLISHED-TTL:PT1H
BEGIN:VTIMEZONE
TZID:UTC
BEGIN:STANDARD
TZOFFSETFROM:+0000
TZOFFSETTO:+0000
TZNAME:UTC
DTSTART:20240101T000000
END:STANDARD
END:VTIMEZONE
BEGIN:VEVENT
DTSTART;TZID=UTC:20240705T210000
DTEND;TZID=UTC:20240706T010000
DTSTAMP:20260420T153226
CREATED:20240402T123332Z
LAST-MODIFIED:20240402T123332Z
UID:1966-1720213200-1720227600@theatria.ca
SUMMARY:Durty Little Secrets
DESCRIPTION:A tribute to Hard rock hair Metal
URL:https://theatria.ca/event/durty-little-secrets-3/
END:VEVENT
BEGIN:VEVENT
DTSTART;TZID=UTC:20240706T210000
DTEND;TZID=UTC:20240707T010000
DTSTAMP:20260420T153226
CREATED:20240402T123637Z
LAST-MODIFIED:20240623T121632Z
UID:1968-1720299600-1720314000@theatria.ca
SUMMARY:Surgically Hip
DESCRIPTION:A tribute to The Tragically Hip
URL:https://theatria.ca/event/surgically-hip/
END:VEVENT
BEGIN:VEVENT
DTSTART;TZID=UTC:20240712T210000
DTEND;TZID=UTC:20240713T010000
DTSTAMP:20260420T153226
CREATED:20240623T123230Z
LAST-MODIFIED:20240623T123230Z
UID:1990-1720818000-1720832400@theatria.ca
SUMMARY:Maitreya with Prospects and Far From Infamy
DESCRIPTION:
URL:https://theatria.ca/event/maitreya-with-prospects-and-far-from-infamy/
END:VEVENT
BEGIN:VEVENT
DTSTART;TZID=UTC:20240718T210000
DTEND;TZID=UTC:20240719T210000
DTSTAMP:20260420T153226
CREATED:20240623T123501Z
LAST-MODIFIED:20240623T123628Z
UID:1993-1721336400-1721422800@theatria.ca
SUMMARY:Black Absinth with Twin Banshee and God Helmet
DESCRIPTION:
URL:https://theatria.ca/event/black-absinth-with-twin-banshee-and-god-helmet/
END:VEVENT
BEGIN:VEVENT
DTSTART;TZID=UTC:20240719T210000
DTEND;TZID=UTC:20240720T010000
DTSTAMP:20260420T153226
CREATED:20240623T123824Z
LAST-MODIFIED:20240715T134526Z
UID:1995-1721422800-1721437200@theatria.ca
SUMMARY:Basket Kase- A tribute to GREEN DAY with Hexajinn
DESCRIPTION:with Hexajin
URL:https://theatria.ca/event/basket-kase-a-tribute-to-green-day/
END:VEVENT
BEGIN:VEVENT
DTSTART;TZID=UTC:20240720T210000
DTEND;TZID=UTC:20240721T010000
DTSTAMP:20260420T153226
CREATED:20240715T135028Z
LAST-MODIFIED:20240715T135028Z
UID:2007-1721509200-1721523600@theatria.ca
SUMMARY:A Night with Rammstein with Tier
DESCRIPTION:Ever Dream and April
URL:https://theatria.ca/event/a-night-with-rammstein-with-tier/
END:VEVENT
BEGIN:VEVENT
DTSTART;TZID=UTC:20240721T180000
DTEND;TZID=UTC:20240721T213000
DTSTAMP:20260420T153226
CREATED:20240623T124621Z
LAST-MODIFIED:20240623T124621Z
UID:1997-1721584800-1721597400@theatria.ca
SUMMARY:David Tosh\, Jack Walker\, Daniel Raymond
DESCRIPTION:
URL:https://theatria.ca/event/david-tosh-jack-walker-daniel-raymond/
END:VEVENT
BEGIN:VEVENT
DTSTART;TZID=UTC:20240726T210000
DTEND;TZID=UTC:20240727T010000
DTSTAMP:20260420T153226
CREATED:20240623T125230Z
LAST-MODIFIED:20240623T125230Z
UID:2000-1722027600-1722042000@theatria.ca
SUMMARY:Videostar \, Ted Axe\, Burdy\, Free Under Fire
DESCRIPTION:
URL:https://theatria.ca/event/videostar-ted-axe-burdy-free-under-fire/
END:VEVENT
BEGIN:VEVENT
DTSTART;TZID=UTC:20240727T210000
DTEND;TZID=UTC:20240728T010000
DTSTAMP:20260420T153226
CREATED:20240623T125753Z
LAST-MODIFIED:20240623T125753Z
UID:2003-1722114000-1722128400@theatria.ca
SUMMARY:Dead Silence\, Late Night Drive\, Life in Exile\, Doc Rock & the Assassins
DESCRIPTION:
URL:https://theatria.ca/event/dead-silence-late-night-drive-life-in-exile-doc-rock-the-assassins/
END:VEVENT
END:VCALENDAR