BEGIN:VCALENDAR
VERSION:2.0
PRODID:-//The Atria - ECPv6.9.0//NONSGML v1.0//EN
CALSCALE:GREGORIAN
METHOD:PUBLISH
X-ORIGINAL-URL:https://theatria.ca
X-WR-CALDESC:Events for The Atria
REFRESH-INTERVAL;VALUE=DURATION:PT1H
X-Robots-Tag:noindex
X-PUBLISHED-TTL:PT1H
BEGIN:VTIMEZONE
TZID:UTC
BEGIN:STANDARD
TZOFFSETFROM:+0000
TZOFFSETTO:+0000
TZNAME:UTC
DTSTART:20240101T000000
END:STANDARD
END:VTIMEZONE
BEGIN:VEVENT
DTSTART;TZID=UTC:20240503T210000
DTEND;TZID=UTC:20240504T010000
DTSTAMP:20260420T182304
CREATED:20240226T160427Z
LAST-MODIFIED:20240226T160427Z
UID:1938-1714770000-1714784400@theatria.ca
SUMMARY:Apricity\, Prairials\, Gypsy Brydge
DESCRIPTION:
URL:https://theatria.ca/event/apricity-prairials-gypsy-brydge/
END:VEVENT
BEGIN:VEVENT
DTSTART;TZID=UTC:20240504T210000
DTEND;TZID=UTC:20240505T010000
DTSTAMP:20260420T182304
CREATED:20240226T161117Z
LAST-MODIFIED:20240226T161117Z
UID:1940-1714856400-1714870800@theatria.ca
SUMMARY:Bootleg XXX
DESCRIPTION:best of classic rock
URL:https://theatria.ca/event/bootleg-xxx-2/
END:VEVENT
BEGIN:VEVENT
DTSTART;TZID=UTC:20240510T210000
DTEND;TZID=UTC:20240511T210000
DTSTAMP:20260420T182304
CREATED:20240104T151413Z
LAST-MODIFIED:20240402T121137Z
UID:1882-1715374800-1715461200@theatria.ca
SUMMARY:Perfect Strangers\, Live Animals\, Mavis
DESCRIPTION:
URL:https://theatria.ca/event/perfect-strangers/
END:VEVENT
BEGIN:VEVENT
DTSTART;TZID=UTC:20240511T210000
DTEND;TZID=UTC:20240512T010000
DTSTAMP:20260420T182304
CREATED:20240104T151544Z
LAST-MODIFIED:20240402T121220Z
UID:1884-1715461200-1715475600@theatria.ca
SUMMARY:Darkness of Greed a tribute to Rage Against the Machine with Hounds of Thunder
DESCRIPTION:
URL:https://theatria.ca/event/darkness-of-greed-a-tribute-to-rage-against-the-machine/
END:VEVENT
BEGIN:VEVENT
DTSTART;TZID=UTC:20240517T210000
DTEND;TZID=UTC:20240518T010000
DTSTAMP:20260420T182304
CREATED:20240226T162200Z
LAST-MODIFIED:20240402T121301Z
UID:1943-1715979600-1715994000@theatria.ca
SUMMARY:Bolongna Colorado\, Harmony on Mars
DESCRIPTION:
URL:https://theatria.ca/event/bolongna-colorado/
END:VEVENT
BEGIN:VEVENT
DTSTART;TZID=UTC:20240518T210000
DTEND;TZID=UTC:20240519T210000
DTSTAMP:20260420T182304
CREATED:20240104T151657Z
LAST-MODIFIED:20240104T151657Z
UID:1886-1716066000-1716152400@theatria.ca
SUMMARY:Queens and Kings\, Cupid Hearts\, Byrdy
DESCRIPTION:
URL:https://theatria.ca/event/queens-and-kings-cupid-hearts-byrdy/
END:VEVENT
BEGIN:VEVENT
DTSTART;TZID=UTC:20240524T210000
DTEND;TZID=UTC:20240525T010000
DTSTAMP:20260420T182304
CREATED:20240402T121602Z
LAST-MODIFIED:20240402T121602Z
UID:1954-1716584400-1716598800@theatria.ca
SUMMARY:Dusty Miller Band
DESCRIPTION:Best of Rock n Roll
URL:https://theatria.ca/event/dusty-miller-band/
END:VEVENT
BEGIN:VEVENT
DTSTART;TZID=UTC:20240525T210000
DTEND;TZID=UTC:20240526T010000
DTSTAMP:20260420T182304
CREATED:20240226T162703Z
LAST-MODIFIED:20240226T162703Z
UID:1946-1716670800-1716685200@theatria.ca
SUMMARY:Chronicles a tribute to Rush
DESCRIPTION:
URL:https://theatria.ca/event/chronicles-a-tribute-to-rush-2/
END:VEVENT
BEGIN:VEVENT
DTSTART;TZID=UTC:20240531T210000
DTEND;TZID=UTC:20240601T010000
DTSTAMP:20260420T182304
CREATED:20240402T122034Z
LAST-MODIFIED:20240402T122034Z
UID:1956-1717189200-1717203600@theatria.ca
SUMMARY:HaloVair\, Wolves on Tape\, Jackson D. Begley
DESCRIPTION:
URL:https://theatria.ca/event/halovair-wolves-on-tape-jackson-d-begley/
END:VEVENT
END:VCALENDAR