BEGIN:VCALENDAR
VERSION:2.0
PRODID:-//The Atria - ECPv6.9.0//NONSGML v1.0//EN
CALSCALE:GREGORIAN
METHOD:PUBLISH
X-ORIGINAL-URL:https://theatria.ca
X-WR-CALDESC:Events for The Atria
REFRESH-INTERVAL;VALUE=DURATION:PT1H
X-Robots-Tag:noindex
X-PUBLISHED-TTL:PT1H
BEGIN:VTIMEZONE
TZID:UTC
BEGIN:STANDARD
TZOFFSETFROM:+0000
TZOFFSETTO:+0000
TZNAME:UTC
DTSTART:20240101T000000
END:STANDARD
END:VTIMEZONE
BEGIN:VEVENT
DTSTART;TZID=UTC:20240406T210000
DTEND;TZID=UTC:20240407T210000
DTSTAMP:20260420T194159
CREATED:20240104T151109Z
LAST-MODIFIED:20240104T151109Z
UID:1876-1712437200-1712523600@theatria.ca
SUMMARY:GEN X\, Mic Fiends
DESCRIPTION:
URL:https://theatria.ca/event/gen-x-mic-fiends/
END:VEVENT
BEGIN:VEVENT
DTSTART;TZID=UTC:20240412T210000
DTEND;TZID=UTC:20240413T010000
DTSTAMP:20260420T194159
CREATED:20240226T154403Z
LAST-MODIFIED:20240226T154403Z
UID:1928-1712955600-1712970000@theatria.ca
SUMMARY:Something from Nothing
DESCRIPTION:A tribute to the Foo Fighters
URL:https://theatria.ca/event/something-from-nothing-3/
END:VEVENT
BEGIN:VEVENT
DTSTART;TZID=UTC:20240413T210000
DTEND;TZID=UTC:20240414T010000
DTSTAMP:20260420T194159
CREATED:20240226T154632Z
LAST-MODIFIED:20240226T154632Z
UID:1930-1713042000-1713056400@theatria.ca
SUMMARY:Epitaph\, Rustic\, Ted Axe\, Manic Mouth
DESCRIPTION:
URL:https://theatria.ca/event/epitaph-rustic-ted-axe-manic-mouth/
END:VEVENT
BEGIN:VEVENT
DTSTART;TZID=UTC:20240414T200000
DTEND;TZID=UTC:20240414T230000
DTSTAMP:20260420T194159
CREATED:20240105T141732Z
LAST-MODIFIED:20240105T141732Z
UID:1890-1713124800-1713135600@theatria.ca
SUMMARY:Dead Root Revival
DESCRIPTION:
URL:https://theatria.ca/event/dead-root-revival-2/
END:VEVENT
BEGIN:VEVENT
DTSTART;TZID=UTC:20240419T210000
DTEND;TZID=UTC:20240420T010000
DTSTAMP:20260420T194159
CREATED:20240402T121025Z
LAST-MODIFIED:20240402T121025Z
UID:1949-1713560400-1713574800@theatria.ca
SUMMARY:Incarnatus\, Diamond Weapon\, God Helmet \, Death Club
DESCRIPTION:
URL:https://theatria.ca/event/incarnatus-diamond-weapon-god-helmet-death-club/
END:VEVENT
BEGIN:VEVENT
DTSTART;TZID=UTC:20240420T210000
DTEND;TZID=UTC:20240421T010000
DTSTAMP:20260420T194159
CREATED:20240226T155412Z
LAST-MODIFIED:20240226T155919Z
UID:1932-1713646800-1713661200@theatria.ca
SUMMARY:Pound of Flesh\, Castle Black\, Unkle Skurvey\, Lemur\, Cadillac Blood\, Crimson Ashphalt
DESCRIPTION:
URL:https://theatria.ca/event/pound-of-flesh-castle-black/
END:VEVENT
BEGIN:VEVENT
DTSTART;TZID=UTC:20240426T210000
DTEND;TZID=UTC:20240427T210000
DTSTAMP:20260420T194159
CREATED:20240104T151206Z
LAST-MODIFIED:20240104T151206Z
UID:1878-1714165200-1714251600@theatria.ca
SUMMARY:Durty Little Secrets
DESCRIPTION:
URL:https://theatria.ca/event/durty-little-secrets-2/
END:VEVENT
BEGIN:VEVENT
DTSTART;TZID=UTC:20240427T210000
DTEND;TZID=UTC:20240428T210000
DTSTAMP:20260420T194159
CREATED:20240104T151259Z
LAST-MODIFIED:20240226T145209Z
UID:1880-1714251600-1714338000@theatria.ca
SUMMARY:Byrdy\, Farwell Radio\, Burning Bridges
DESCRIPTION:
URL:https://theatria.ca/event/byrdy-maya-blue/
END:VEVENT
END:VCALENDAR