BEGIN:VCALENDAR
VERSION:2.0
PRODID:-//The Atria - ECPv6.9.0//NONSGML v1.0//EN
CALSCALE:GREGORIAN
METHOD:PUBLISH
X-WR-CALNAME:The Atria
X-ORIGINAL-URL:https://theatria.ca
X-WR-CALDESC:Events for The Atria
REFRESH-INTERVAL;VALUE=DURATION:PT1H
X-Robots-Tag:noindex
X-PUBLISHED-TTL:PT1H
BEGIN:VTIMEZONE
TZID:UTC
BEGIN:STANDARD
TZOFFSETFROM:+0000
TZOFFSETTO:+0000
TZNAME:UTC
DTSTART:20230101T000000
END:STANDARD
END:VTIMEZONE
BEGIN:VEVENT
DTSTART;TZID=UTC:20231103T210000
DTEND;TZID=UTC:20231104T010000
DTSTAMP:20260421T024753
CREATED:20231017T141224Z
LAST-MODIFIED:20231025T165259Z
UID:1765-1699045200-1699059600@theatria.ca
SUMMARY:Hollow Core \, ByOctopi\, Skeleton Lake\, Tears of a Diety
DESCRIPTION:
URL:https://theatria.ca/event/hollow-core-byoctopi/
END:VEVENT
BEGIN:VEVENT
DTSTART;TZID=UTC:20231104T210000
DTEND;TZID=UTC:20231105T010000
DTSTAMP:20260421T024753
CREATED:20231017T141522Z
LAST-MODIFIED:20231017T141522Z
UID:1767-1699131600-1699146000@theatria.ca
SUMMARY:Xero Tolerance\, CNTRL\, Incarnatus
DESCRIPTION:Xero Tolerance- performing Bloody Kisses in its entirety
URL:https://theatria.ca/event/xero-tolerance-cntrl-incarnatus/
END:VEVENT
BEGIN:VEVENT
DTSTART;TZID=UTC:20231110T210000
DTEND;TZID=UTC:20231111T010000
DTSTAMP:20260421T024753
CREATED:20231017T141655Z
LAST-MODIFIED:20231017T141655Z
UID:1769-1699650000-1699664400@theatria.ca
SUMMARY:Bad Sally\, Gaijin Smash\, Babys first Pistol\, Stress Dolls
DESCRIPTION:
URL:https://theatria.ca/event/bad-sally-gaijin-smash-babys-first-pistol-stress-dolls/
END:VEVENT
BEGIN:VEVENT
DTSTART;TZID=UTC:20231111T210000
DTEND;TZID=UTC:20231112T010000
DTSTAMP:20260421T024753
CREATED:20231017T141901Z
LAST-MODIFIED:20231017T141901Z
UID:1771-1699736400-1699750800@theatria.ca
SUMMARY:GFU\, Class Assassins\, Bad Sally\, Sick "N" Vicious\, Brandon Richard
DESCRIPTION:
URL:https://theatria.ca/event/gfu-class-assassins-bad-sally-sick-n-vicious-brandon-richard/
END:VEVENT
BEGIN:VEVENT
DTSTART;TZID=UTC:20231117T210000
DTEND;TZID=UTC:20231118T010000
DTSTAMP:20260421T024753
CREATED:20231017T142031Z
LAST-MODIFIED:20231017T142031Z
UID:1773-1700254800-1700269200@theatria.ca
SUMMARY:Daniel Walton\, Circle the City\, The JailBirds
DESCRIPTION:
URL:https://theatria.ca/event/daniel-walton-circle-the-city-the-jailbirds/
END:VEVENT
BEGIN:VEVENT
DTSTART;TZID=UTC:20231118T210000
DTEND;TZID=UTC:20231119T010000
DTSTAMP:20260421T024753
CREATED:20231017T142158Z
LAST-MODIFIED:20231017T142158Z
UID:1775-1700341200-1700355600@theatria.ca
SUMMARY:BYRDY\, Diamond Weapon\, Live Animals
DESCRIPTION:
URL:https://theatria.ca/event/byrdy-diamond-weapon-live-animals/
END:VEVENT
BEGIN:VEVENT
DTSTART;TZID=UTC:20231123T210000
DTEND;TZID=UTC:20231124T010000
DTSTAMP:20260421T024753
CREATED:20231017T142350Z
LAST-MODIFIED:20231017T142350Z
UID:1777-1700773200-1700787600@theatria.ca
SUMMARY:Bad Men\, Berner Trail
DESCRIPTION:
URL:https://theatria.ca/event/bad-men-berner-trail/
END:VEVENT
BEGIN:VEVENT
DTSTART;TZID=UTC:20231124T210000
DTEND;TZID=UTC:20231125T010000
DTSTAMP:20260421T024753
CREATED:20231017T142451Z
LAST-MODIFIED:20231017T142451Z
UID:1779-1700859600-1700874000@theatria.ca
SUMMARY:Incarnatus\, Vile Driver\, God Helmet
DESCRIPTION:
URL:https://theatria.ca/event/incarnatus-vile-driver-god-helmet/
END:VEVENT
BEGIN:VEVENT
DTSTART;TZID=UTC:20231125T140000
DTEND;TZID=UTC:20231125T180000
DTSTAMP:20260421T024753
CREATED:20231017T142907Z
LAST-MODIFIED:20231025T164346Z
UID:1783-1700920800-1700935200@theatria.ca
SUMMARY:Life of Exile\, Incoming Sun
DESCRIPTION:This is an all ages event from 2-6 pm
URL:https://theatria.ca/event/life-of-exile-incoming-sun/
END:VEVENT
BEGIN:VEVENT
DTSTART;TZID=UTC:20231125T210000
DTEND;TZID=UTC:20231126T010000
DTSTAMP:20260421T024753
CREATED:20231017T142642Z
LAST-MODIFIED:20231017T142642Z
UID:1781-1700946000-1700960400@theatria.ca
SUMMARY:Stone Temple 90's
DESCRIPTION:A tribute to the Stone Temple Pilots and the 90’s Grunge era
URL:https://theatria.ca/event/stone-temple-90s-3/
END:VEVENT
END:VCALENDAR