BEGIN:VCALENDAR
VERSION:2.0
PRODID:-//The Atria - ECPv6.9.0//NONSGML v1.0//EN
CALSCALE:GREGORIAN
METHOD:PUBLISH
X-WR-CALNAME:The Atria
X-ORIGINAL-URL:https://theatria.ca
X-WR-CALDESC:Events for The Atria
REFRESH-INTERVAL;VALUE=DURATION:PT1H
X-Robots-Tag:noindex
X-PUBLISHED-TTL:PT1H
BEGIN:VTIMEZONE
TZID:UTC
BEGIN:STANDARD
TZOFFSETFROM:+0000
TZOFFSETTO:+0000
TZNAME:UTC
DTSTART:20230101T000000
END:STANDARD
END:VTIMEZONE
BEGIN:VEVENT
DTSTART;TZID=UTC:20230802T210000
DTEND;TZID=UTC:20230803T010000
DTSTAMP:20260421T070047
CREATED:20230712T125408Z
LAST-MODIFIED:20230712T125408Z
UID:1718-1691010000-1691024400@theatria.ca
SUMMARY:Occult Witches\, Tumble\, Vs The Borg
DESCRIPTION:
URL:https://theatria.ca/event/occult-witches-tumble-vs-the-borg/
END:VEVENT
BEGIN:VEVENT
DTSTART;TZID=UTC:20230805T210000
DTEND;TZID=UTC:20230806T010000
DTSTAMP:20260421T070047
CREATED:20230712T130833Z
LAST-MODIFIED:20230712T130833Z
UID:1721-1691269200-1691283600@theatria.ca
SUMMARY:Social Strife\, Dead Silence\,7Day Riot\, King Moon racer
DESCRIPTION:
URL:https://theatria.ca/event/social-strife-dead-silence7day-riot-king-moon-racer/
END:VEVENT
BEGIN:VEVENT
DTSTART;TZID=UTC:20230809T210000
DTEND;TZID=UTC:20230810T010000
DTSTAMP:20260421T070047
CREATED:20230712T131209Z
LAST-MODIFIED:20230712T131209Z
UID:1723-1691614800-1691629200@theatria.ca
SUMMARY:Chilio & The Downcast\, Last Possible Minute\, Bad Sally
DESCRIPTION:
URL:https://theatria.ca/event/chilio-the-downcast-last-possible-minute-bad-sally/
END:VEVENT
BEGIN:VEVENT
DTSTART;TZID=UTC:20230810T210000
DTEND;TZID=UTC:20230811T010000
DTSTAMP:20260421T070047
CREATED:20230712T131325Z
LAST-MODIFIED:20230712T131325Z
UID:1725-1691701200-1691715600@theatria.ca
SUMMARY:Veinduze\, Ascrem\, Stuck in Nostalgia
DESCRIPTION:
URL:https://theatria.ca/event/veinduze-ascrem-stuck-in-nostalgia/
END:VEVENT
BEGIN:VEVENT
DTSTART;TZID=UTC:20230811T210000
DTEND;TZID=UTC:20230812T010000
DTSTAMP:20260421T070047
CREATED:20230712T131419Z
LAST-MODIFIED:20230712T131419Z
UID:1727-1691787600-1691802000@theatria.ca
SUMMARY:Dead Root Revival
DESCRIPTION:
URL:https://theatria.ca/event/dead-root-revival/
END:VEVENT
BEGIN:VEVENT
DTSTART;TZID=UTC:20230812T210000
DTEND;TZID=UTC:20230813T010000
DTSTAMP:20260421T070047
CREATED:20230712T131841Z
LAST-MODIFIED:20230712T131841Z
UID:1729-1691874000-1691888400@theatria.ca
SUMMARY:Nicolas Campbell & the Metre Cheaters\, Hank Slick
DESCRIPTION:
URL:https://theatria.ca/event/nicolas-campbell-the-metre-cheaters-hank-slick/
END:VEVENT
BEGIN:VEVENT
DTSTART;TZID=UTC:20230818T210000
DTEND;TZID=UTC:20230819T010000
DTSTAMP:20260421T070047
CREATED:20230712T134547Z
LAST-MODIFIED:20230712T141020Z
UID:1731-1692392400-1692406800@theatria.ca
SUMMARY:Trash Puppets\, Lime Rickey\, Lucid Smog Disorder\, Lucid Movement
DESCRIPTION:
URL:https://theatria.ca/event/trash-puppets-lime-rickey-lucid-smog-disorder/
END:VEVENT
BEGIN:VEVENT
DTSTART;TZID=UTC:20230819T210000
DTEND;TZID=UTC:20230820T010000
DTSTAMP:20260421T070047
CREATED:20230714T153805Z
LAST-MODIFIED:20230714T153805Z
UID:1737-1692478800-1692493200@theatria.ca
SUMMARY:Static Point\, Beach Fox\, No More Time
DESCRIPTION:
URL:https://theatria.ca/event/static-point-beach-fox-no-more-time/
END:VEVENT
BEGIN:VEVENT
DTSTART;TZID=UTC:20230825T210000
DTEND;TZID=UTC:20230826T010000
DTSTAMP:20260421T070047
CREATED:20230712T141126Z
LAST-MODIFIED:20230712T141126Z
UID:1735-1692997200-1693011600@theatria.ca
SUMMARY:Metal Detectors
DESCRIPTION:
URL:https://theatria.ca/event/metal-detectors/
END:VEVENT
END:VCALENDAR