BEGIN:VCALENDAR
VERSION:2.0
PRODID:-//The Atria - ECPv6.9.0//NONSGML v1.0//EN
CALSCALE:GREGORIAN
METHOD:PUBLISH
X-ORIGINAL-URL:https://theatria.ca
X-WR-CALDESC:Events for The Atria
REFRESH-INTERVAL;VALUE=DURATION:PT1H
X-Robots-Tag:noindex
X-PUBLISHED-TTL:PT1H
BEGIN:VTIMEZONE
TZID:UTC
BEGIN:STANDARD
TZOFFSETFROM:+0000
TZOFFSETTO:+0000
TZNAME:UTC
DTSTART:20230101T000000
END:STANDARD
END:VTIMEZONE
BEGIN:VEVENT
DTSTART;TZID=UTC:20230712T210000
DTEND;TZID=UTC:20230713T010000
DTSTAMP:20260423T084212
CREATED:20230530T115533Z
LAST-MODIFIED:20230530T115533Z
UID:1700-1689195600-1689210000@theatria.ca
SUMMARY:The Black Void \, Gaijin Smash Jerkoff Diary
DESCRIPTION:
URL:https://theatria.ca/event/the-black-void-gaijin-smash-jerkoff-diary/
END:VEVENT
BEGIN:VEVENT
DTSTART;TZID=UTC:20230714T210000
DTEND;TZID=UTC:20230715T010000
DTSTAMP:20260423T084212
CREATED:20230711T160119Z
LAST-MODIFIED:20230711T160119Z
UID:1706-1689368400-1689382800@theatria.ca
SUMMARY:Locust Hill\, Skeleton Lake\, Matt Silver\, Prince Nothing\, Hwy 0
DESCRIPTION:
URL:https://theatria.ca/event/locust-hill-skeleton-lake-matt-silver-prince-nothing-hwy-0/
END:VEVENT
BEGIN:VEVENT
DTSTART;TZID=UTC:20230719T210000
DTEND;TZID=UTC:20230720T010000
DTSTAMP:20260423T084212
CREATED:20230711T171439Z
LAST-MODIFIED:20230712T125144Z
UID:1714-1689800400-1689814800@theatria.ca
SUMMARY:Ivy Gardens\, Days on Parade\, Jules McCools\, Separator
DESCRIPTION:
URL:https://theatria.ca/event/ivy-gardens-days-on-parade/
END:VEVENT
BEGIN:VEVENT
DTSTART;TZID=UTC:20230720T210000
DTEND;TZID=UTC:20230721T010000
DTSTAMP:20260423T084212
CREATED:20230711T162403Z
LAST-MODIFIED:20230711T162548Z
UID:1712-1689886800-1689901200@theatria.ca
SUMMARY:The Nailheads\, Wasting Time\, Fast Eddie
DESCRIPTION:
URL:https://theatria.ca/event/the-nailheads-wasting-time-fast-eddie/
END:VEVENT
BEGIN:VEVENT
DTSTART;TZID=UTC:20230721T210000
DTEND;TZID=UTC:20230722T013000
DTSTAMP:20260423T084212
CREATED:20230711T155335Z
LAST-MODIFIED:20230711T155335Z
UID:1704-1689973200-1689989400@theatria.ca
SUMMARY:Back Alley Gospel\, Morrison Heights\, Shanias Stain\, Bloody Munroe
DESCRIPTION:
URL:https://theatria.ca/event/back-alley-gospel-morrison-heights-shanias-stain-bloody-munroe/
END:VEVENT
BEGIN:VEVENT
DTSTART;TZID=UTC:20230722T210000
DTEND;TZID=UTC:20230723T010000
DTSTAMP:20260423T084212
CREATED:20230711T161914Z
LAST-MODIFIED:20230711T161914Z
UID:1710-1690059600-1690074000@theatria.ca
SUMMARY:Hell is Other People\, Pillars of Autumn\, In the Act of Violence\, Seagrave\, Incarnatus
DESCRIPTION:
URL:https://theatria.ca/event/hell-is-other-people-pillars-of-autumn-in-the-act-of-violence-seagrave-incarnatus/
END:VEVENT
BEGIN:VEVENT
DTSTART;TZID=UTC:20230728T210000
DTEND;TZID=UTC:20230729T010000
DTSTAMP:20260423T084212
CREATED:20230529T164622Z
LAST-MODIFIED:20230529T164622Z
UID:1696-1690578000-1690592400@theatria.ca
SUMMARY:Chronicles a tribute to Rush
DESCRIPTION:
URL:https://theatria.ca/event/chronicles-a-tribute-to-rush/
END:VEVENT
BEGIN:VEVENT
DTSTART;TZID=UTC:20230729T210000
DTEND;TZID=UTC:20230730T010000
DTSTAMP:20260423T084212
CREATED:20230711T161614Z
LAST-MODIFIED:20230711T161614Z
UID:1708-1690664400-1690678800@theatria.ca
SUMMARY:Nothing Serious\, Save the Night\, Separator
DESCRIPTION:
URL:https://theatria.ca/event/nothing-serious-save-the-night-separator/
END:VEVENT
END:VCALENDAR