BEGIN:VCALENDAR
VERSION:2.0
PRODID:-//The Atria - ECPv6.9.0//NONSGML v1.0//EN
CALSCALE:GREGORIAN
METHOD:PUBLISH
X-ORIGINAL-URL:https://theatria.ca
X-WR-CALDESC:Events for The Atria
REFRESH-INTERVAL;VALUE=DURATION:PT1H
X-Robots-Tag:noindex
X-PUBLISHED-TTL:PT1H
BEGIN:VTIMEZONE
TZID:UTC
BEGIN:STANDARD
TZOFFSETFROM:+0000
TZOFFSETTO:+0000
TZNAME:UTC
DTSTART:20230101T000000
END:STANDARD
END:VTIMEZONE
BEGIN:VEVENT
DTSTART;TZID=UTC:20230506T210000
DTEND;TZID=UTC:20230507T010000
DTSTAMP:20260423T113017
CREATED:20230213T171821Z
LAST-MODIFIED:20230213T171821Z
UID:1659-1683406800-1683421200@theatria.ca
SUMMARY:GFU\, Poison Fountains\, Vs. The Borg\, Sick "N" Viscious
DESCRIPTION:
URL:https://theatria.ca/event/gfu-poison-fountains-vs-the-borg-sick-n-viscious/
END:VEVENT
BEGIN:VEVENT
DTSTART;TZID=UTC:20230512T210000
DTEND;TZID=UTC:20230513T010000
DTSTAMP:20260423T113017
CREATED:20230228T150042Z
LAST-MODIFIED:20230228T150042Z
UID:1671-1683925200-1683939600@theatria.ca
SUMMARY:Mule King
DESCRIPTION:
URL:https://theatria.ca/event/mule-king/
END:VEVENT
BEGIN:VEVENT
DTSTART;TZID=UTC:20230513T210000
DTEND;TZID=UTC:20230514T010000
DTSTAMP:20260423T113017
CREATED:20230123T153022Z
LAST-MODIFIED:20230123T153022Z
UID:1629-1684011600-1684026000@theatria.ca
SUMMARY:Durty Little Secrets
DESCRIPTION:
URL:https://theatria.ca/event/durty-little-secrets/
END:VEVENT
BEGIN:VEVENT
DTSTART;TZID=UTC:20230516T210000
DTEND;TZID=UTC:20230517T010000
DTSTAMP:20260423T113017
CREATED:20230123T152928Z
LAST-MODIFIED:20230123T152928Z
UID:1627-1684270800-1684285200@theatria.ca
SUMMARY:Lone Wolf\, Dee Cracks\, School Damage
DESCRIPTION:
URL:https://theatria.ca/event/lone-wolf-dee-cracks-school-damage/
END:VEVENT
BEGIN:VEVENT
DTSTART;TZID=UTC:20230519T210000
DTEND;TZID=UTC:20230520T010000
DTSTAMP:20260423T113017
CREATED:20230123T153201Z
LAST-MODIFIED:20230228T145916Z
UID:1633-1684530000-1684544400@theatria.ca
SUMMARY:Don't Tell Sarah\, Doc Hollywood and the Assassins\, Paralysis
DESCRIPTION:
URL:https://theatria.ca/event/dont-tell-sarah/
END:VEVENT
BEGIN:VEVENT
DTSTART;TZID=UTC:20230520T210000
DTEND;TZID=UTC:20230521T010000
DTSTAMP:20260423T113017
CREATED:20230123T153113Z
LAST-MODIFIED:20230123T153113Z
UID:1631-1684616400-1684630800@theatria.ca
SUMMARY:Social Strife
DESCRIPTION:
URL:https://theatria.ca/event/social-strife/
END:VEVENT
BEGIN:VEVENT
DTSTART;TZID=UTC:20230526T210000
DTEND;TZID=UTC:20230527T010000
DTSTAMP:20260423T113017
CREATED:20230228T150252Z
LAST-MODIFIED:20230228T150252Z
UID:1673-1685134800-1685149200@theatria.ca
SUMMARY:Mute Sounds\, Milk Faction\, No Sunshine Collective\, Apricity
DESCRIPTION:
URL:https://theatria.ca/event/mute-sounds-milk-faction-no-sunshine-collective-apricity/
END:VEVENT
END:VCALENDAR