BEGIN:VCALENDAR
VERSION:2.0
PRODID:-//The Atria - ECPv6.9.0//NONSGML v1.0//EN
CALSCALE:GREGORIAN
METHOD:PUBLISH
X-WR-CALNAME:The Atria
X-ORIGINAL-URL:https://theatria.ca
X-WR-CALDESC:Events for The Atria
REFRESH-INTERVAL;VALUE=DURATION:PT1H
X-Robots-Tag:noindex
X-PUBLISHED-TTL:PT1H
BEGIN:VTIMEZONE
TZID:UTC
BEGIN:STANDARD
TZOFFSETFROM:+0000
TZOFFSETTO:+0000
TZNAME:UTC
DTSTART:20230101T000000
END:STANDARD
END:VTIMEZONE
BEGIN:VEVENT
DTSTART;TZID=UTC:20230407T210000
DTEND;TZID=UTC:20230408T010000
DTSTAMP:20260423T124857
CREATED:20230213T170616Z
LAST-MODIFIED:20230213T170616Z
UID:1653-1680901200-1680915600@theatria.ca
SUMMARY:Hollywood Zoo
DESCRIPTION:A tribute to the music of the 1980’s era
URL:https://theatria.ca/event/hollywood-zoo/
END:VEVENT
BEGIN:VEVENT
DTSTART;TZID=UTC:20230408T210000
DTEND;TZID=UTC:20230409T010000
DTSTAMP:20260423T124857
CREATED:20230123T150230Z
LAST-MODIFIED:20230123T150230Z
UID:1615-1680987600-1681002000@theatria.ca
SUMMARY:Something From Nothing
DESCRIPTION:a tribute to the Foo Fighters
URL:https://theatria.ca/event/something-from-nothing/
END:VEVENT
BEGIN:VEVENT
DTSTART;TZID=UTC:20230414T210000
DTEND;TZID=UTC:20230415T210000
DTSTAMP:20260423T124857
CREATED:20230113T232344Z
LAST-MODIFIED:20230123T152538Z
UID:1572-1681506000-1681592400@theatria.ca
SUMMARY:OSHAWA METALFEST 2023
DESCRIPTION:
URL:https://theatria.ca/event/oshawa-metalfest-2023/
END:VEVENT
BEGIN:VEVENT
DTSTART;TZID=UTC:20230421T210000
DTEND;TZID=UTC:20230422T010000
DTSTAMP:20260423T124857
CREATED:20230213T170852Z
LAST-MODIFIED:20230213T170852Z
UID:1655-1682110800-1682125200@theatria.ca
SUMMARY:Howlin Gales
DESCRIPTION:
URL:https://theatria.ca/event/howlin-gales-3/
END:VEVENT
BEGIN:VEVENT
DTSTART;TZID=UTC:20230422T210000
DTEND;TZID=UTC:20230423T010000
DTSTAMP:20260423T124857
CREATED:20230123T151804Z
LAST-MODIFIED:20230123T151804Z
UID:1617-1682197200-1682211600@theatria.ca
SUMMARY:Revcall\, Buffalo Bill\, Wednesday Bender
DESCRIPTION:
URL:https://theatria.ca/event/revcall-buffalo-bill-wednesday-bender/
END:VEVENT
BEGIN:VEVENT
DTSTART;TZID=UTC:20230428T210000
DTEND;TZID=UTC:20230429T010000
DTSTAMP:20260423T124857
CREATED:20230213T171159Z
LAST-MODIFIED:20230228T145351Z
UID:1657-1682715600-1682730000@theatria.ca
SUMMARY:7 day Riot\, Highteens\, Locust Hill
DESCRIPTION:
URL:https://theatria.ca/event/7-day-riot/
END:VEVENT
BEGIN:VEVENT
DTSTART;TZID=UTC:20230429T210000
DTEND;TZID=UTC:20230430T010000
DTSTAMP:20260423T124857
CREATED:20230123T152801Z
LAST-MODIFIED:20230123T152801Z
UID:1625-1682802000-1682816400@theatria.ca
SUMMARY:Byrdy\, Meez\, Notus
DESCRIPTION:
URL:https://theatria.ca/event/byrdy-meez-notus/
END:VEVENT
END:VCALENDAR