BEGIN:VCALENDAR
VERSION:2.0
PRODID:-//The Atria - ECPv6.9.0//NONSGML v1.0//EN
CALSCALE:GREGORIAN
METHOD:PUBLISH
X-WR-CALNAME:The Atria
X-ORIGINAL-URL:https://theatria.ca
X-WR-CALDESC:Events for The Atria
REFRESH-INTERVAL;VALUE=DURATION:PT1H
X-Robots-Tag:noindex
X-PUBLISHED-TTL:PT1H
BEGIN:VTIMEZONE
TZID:UTC
BEGIN:STANDARD
TZOFFSETFROM:+0000
TZOFFSETTO:+0000
TZNAME:UTC
DTSTART:20230101T000000
END:STANDARD
END:VTIMEZONE
BEGIN:VEVENT
DTSTART;TZID=UTC:20230303T210000
DTEND;TZID=UTC:20230304T010000
DTSTAMP:20260423T141458
CREATED:20230123T145352Z
LAST-MODIFIED:20230123T145352Z
UID:1602-1677877200-1677891600@theatria.ca
SUMMARY:Stone temple 90's
DESCRIPTION:A tribute to the music of the 90’s era
URL:https://theatria.ca/event/stone-temple-90s-2/
END:VEVENT
BEGIN:VEVENT
DTSTART;TZID=UTC:20230304T210000
DTEND;TZID=UTC:20230305T010000
DTSTAMP:20260423T141458
CREATED:20230123T145505Z
LAST-MODIFIED:20230123T145505Z
UID:1604-1677963600-1677978000@theatria.ca
SUMMARY:Willy Nilly\, Nerima\, Ryley Patrick
DESCRIPTION:
URL:https://theatria.ca/event/willy-nilly-nerima-ryley-patrick-2/
END:VEVENT
BEGIN:VEVENT
DTSTART;TZID=UTC:20230305T210000
DTEND;TZID=UTC:20230305T210000
DTSTAMP:20260423T141458
CREATED:20230228T145720Z
LAST-MODIFIED:20230228T145720Z
UID:1667-1678050000-1678050000@theatria.ca
SUMMARY:Jaded Valentine\, Kill Sid\, Black Out\, Snakes
DESCRIPTION:
URL:https://theatria.ca/event/jaded-valentine-kill-sid-black-out-snakes/
END:VEVENT
BEGIN:VEVENT
DTSTART;TZID=UTC:20230310T210000
DTEND;TZID=UTC:20230311T010000
DTSTAMP:20260423T141458
CREATED:20230123T145558Z
LAST-MODIFIED:20230123T145558Z
UID:1606-1678482000-1678496400@theatria.ca
SUMMARY:Howlin Gales and guests
DESCRIPTION:
URL:https://theatria.ca/event/howlin-gales-and-guests/
END:VEVENT
BEGIN:VEVENT
DTSTART;TZID=UTC:20230311T210000
DTEND;TZID=UTC:20230312T010000
DTSTAMP:20260423T141458
CREATED:20230123T145957Z
LAST-MODIFIED:20230123T145957Z
UID:1612-1678568400-1678582800@theatria.ca
SUMMARY:Those Dam Beavers
DESCRIPTION:
URL:https://theatria.ca/event/those-dam-beavers/
END:VEVENT
BEGIN:VEVENT
DTSTART;TZID=UTC:20230317T210000
DTEND;TZID=UTC:20230318T010000
DTSTAMP:20260423T141458
CREATED:20230123T145819Z
LAST-MODIFIED:20230123T145819Z
UID:1608-1679086800-1679101200@theatria.ca
SUMMARY:Queens & Kings\, The Black Void\, Baby's first Pistol
DESCRIPTION:
URL:https://theatria.ca/event/queens-kings-the-black-void-babys-first-pistol/
END:VEVENT
BEGIN:VEVENT
DTSTART;TZID=UTC:20230318T210000
DTEND;TZID=UTC:20230319T010000
DTSTAMP:20260423T141458
CREATED:20230123T145913Z
LAST-MODIFIED:20230123T150018Z
UID:1610-1679173200-1679187600@theatria.ca
SUMMARY:Stand Against Fear
DESCRIPTION:
URL:https://theatria.ca/event/stand-against-fear/
END:VEVENT
BEGIN:VEVENT
DTSTART;TZID=UTC:20230324T210000
DTEND;TZID=UTC:20230325T010000
DTSTAMP:20260423T141458
CREATED:20230113T233345Z
LAST-MODIFIED:20230228T153148Z
UID:1575-1679691600-1679706000@theatria.ca
SUMMARY:Doghouse Rose \, The Filthy Radicals\, Mad Murdocks
DESCRIPTION:
URL:https://theatria.ca/event/doghouse-rose-the-filthy-radicals-mad-murdocks/
END:VEVENT
BEGIN:VEVENT
DTSTART;TZID=UTC:20230331T210000
DTEND;TZID=UTC:20230401T010000
DTSTAMP:20260423T141458
CREATED:20230213T170351Z
LAST-MODIFIED:20230213T170351Z
UID:1651-1680296400-1680310800@theatria.ca
SUMMARY:Black Budget\, Strawberry Cough\, Downcast
DESCRIPTION:
URL:https://theatria.ca/event/black-budget-strawberry-cough-downcast/
END:VEVENT
END:VCALENDAR