BEGIN:VCALENDAR
VERSION:2.0
PRODID:-//The Atria - ECPv6.9.0//NONSGML v1.0//EN
CALSCALE:GREGORIAN
METHOD:PUBLISH
X-ORIGINAL-URL:https://theatria.ca
X-WR-CALDESC:Events for The Atria
REFRESH-INTERVAL;VALUE=DURATION:PT1H
X-Robots-Tag:noindex
X-PUBLISHED-TTL:PT1H
BEGIN:VTIMEZONE
TZID:UTC
BEGIN:STANDARD
TZOFFSETFROM:+0000
TZOFFSETTO:+0000
TZNAME:UTC
DTSTART:20230101T000000
END:STANDARD
END:VTIMEZONE
BEGIN:VEVENT
DTSTART;TZID=UTC:20230204T210000
DTEND;TZID=UTC:20230205T010000
DTSTAMP:20260423T154214
CREATED:20221122T141127Z
LAST-MODIFIED:20221122T141156Z
UID:1549-1675544400-1675558800@theatria.ca
SUMMARY:Dr. Feelgood a tribute to Motley Crue
DESCRIPTION:
URL:https://theatria.ca/event/dr-feelgood-a-tribute-to-motley-crue/
END:VEVENT
BEGIN:VEVENT
DTSTART;TZID=UTC:20230211T210000
DTEND;TZID=UTC:20230212T010000
DTSTAMP:20260423T154214
CREATED:20230123T142711Z
LAST-MODIFIED:20230123T142711Z
UID:1592-1676149200-1676163600@theatria.ca
SUMMARY:Heavy Head\, Chris Caduret\, Jake Feeny
DESCRIPTION:
URL:https://theatria.ca/event/heavy-head-chris-caduret-jake-feeny/
END:VEVENT
BEGIN:VEVENT
DTSTART;TZID=UTC:20230211T210000
DTEND;TZID=UTC:20230212T010000
DTSTAMP:20260423T154214
CREATED:20230123T143926Z
LAST-MODIFIED:20230204T192008Z
UID:1594-1676149200-1676163600@theatria.ca
SUMMARY:Koncept of Light\, The Veldt\, Byrdy
DESCRIPTION:
URL:https://theatria.ca/event/koncept-of-light-the-veldt/
END:VEVENT
BEGIN:VEVENT
DTSTART;TZID=UTC:20230216T210000
DTEND;TZID=UTC:20230217T010000
DTSTAMP:20260423T154214
CREATED:20230123T144047Z
LAST-MODIFIED:20230123T144047Z
UID:1596-1676581200-1676595600@theatria.ca
SUMMARY:Union Thugs\, Stink Box
DESCRIPTION:
URL:https://theatria.ca/event/union-thugs-stink-box/
END:VEVENT
BEGIN:VEVENT
DTSTART;TZID=UTC:20230217T210000
DTEND;TZID=UTC:20230218T010000
DTSTAMP:20260423T154214
CREATED:20230123T144705Z
LAST-MODIFIED:20230218T000539Z
UID:1599-1676667600-1676682000@theatria.ca
SUMMARY:Techno Western\, the Lizard People\, Jules McCools\, The Masquerade
DESCRIPTION:
URL:https://theatria.ca/event/howlin-gales-2/
END:VEVENT
BEGIN:VEVENT
DTSTART;TZID=UTC:20230218T210000
DTEND;TZID=UTC:20230219T010000
DTSTAMP:20260423T154214
CREATED:20230113T232104Z
LAST-MODIFIED:20230123T152616Z
UID:1570-1676754000-1676768400@theatria.ca
SUMMARY:Burdizzo\, Price to Die\, Tangents & Experiment Speciment
DESCRIPTION:
URL:https://theatria.ca/event/burdizzo-price-to-die-tangents-experiment-speciment/
END:VEVENT
BEGIN:VEVENT
DTSTART;TZID=UTC:20230224T210000
DTEND;TZID=UTC:20230225T010000
DTSTAMP:20260423T154214
CREATED:20230213T164940Z
LAST-MODIFIED:20230213T165530Z
UID:1645-1677272400-1677286800@theatria.ca
SUMMARY:Permanent Waves a tribute to RUSH
DESCRIPTION:
URL:https://theatria.ca/event/permanent-waves-a-tribute-to-rush/
END:VEVENT
BEGIN:VEVENT
DTSTART;TZID=UTC:20230225T210000
DTEND;TZID=UTC:20230226T010000
DTSTAMP:20260423T154214
CREATED:20230213T170044Z
LAST-MODIFIED:20230213T170044Z
UID:1648-1677358800-1677373200@theatria.ca
SUMMARY:Valyear with SuperChucker and Briden
DESCRIPTION:
URL:https://theatria.ca/event/valyear-with-superchucker-and-briden/
END:VEVENT
END:VCALENDAR