BEGIN:VCALENDAR
VERSION:2.0
PRODID:-//The Atria - ECPv6.9.0//NONSGML v1.0//EN
CALSCALE:GREGORIAN
METHOD:PUBLISH
X-WR-CALNAME:The Atria
X-ORIGINAL-URL:https://theatria.ca
X-WR-CALDESC:Events for The Atria
REFRESH-INTERVAL;VALUE=DURATION:PT1H
X-Robots-Tag:noindex
X-PUBLISHED-TTL:PT1H
BEGIN:VTIMEZONE
TZID:UTC
BEGIN:STANDARD
TZOFFSETFROM:+0000
TZOFFSETTO:+0000
TZNAME:UTC
DTSTART:20220101T000000
END:STANDARD
END:VTIMEZONE
BEGIN:VEVENT
DTSTART;TZID=UTC:20220506T210000
DTEND;TZID=UTC:20220507T210000
DTSTAMP:20260424T040333
CREATED:20220506T132127Z
LAST-MODIFIED:20220506T132127Z
UID:1300-1651870800-1651957200@theatria.ca
SUMMARY:Nothing Serious\, Badgermilk\, Far from Infamy\, Emo Dad
DESCRIPTION:
URL:https://theatria.ca/event/nothing-serious-badgermilk-far-from-infamy-emo-dad/
END:VEVENT
BEGIN:VEVENT
DTSTART;TZID=UTC:20220507T210000
DTEND;TZID=UTC:20220508T010000
DTSTAMP:20260424T040333
CREATED:20220506T132314Z
LAST-MODIFIED:20220506T132314Z
UID:1302-1651957200-1651971600@theatria.ca
SUMMARY:Stone Temple 90's
DESCRIPTION:A tribute to the grunge rock era
URL:https://theatria.ca/event/stone-temple-90s/
END:VEVENT
BEGIN:VEVENT
DTSTART;TZID=UTC:20220513T210000
DTEND;TZID=UTC:20220514T010000
DTSTAMP:20260424T040333
CREATED:20220506T132539Z
LAST-MODIFIED:20220506T132539Z
UID:1304-1652475600-1652490000@theatria.ca
SUMMARY:Playhouse\, Bad Breed\, Howlin Gales
DESCRIPTION:
URL:https://theatria.ca/event/playhouse-bad-breed-howlin-gales/
END:VEVENT
BEGIN:VEVENT
DTSTART;TZID=UTC:20220514T210000
DTEND;TZID=UTC:20220515T010000
DTSTAMP:20260424T040333
CREATED:20220506T132744Z
LAST-MODIFIED:20220506T132744Z
UID:1306-1652562000-1652576400@theatria.ca
SUMMARY:BA Johnston \, Sons Of Butcher\, Thunderkok
DESCRIPTION:
URL:https://theatria.ca/event/ba-johnston-sons-of-butcher-thunderkok/
END:VEVENT
BEGIN:VEVENT
DTSTART;TZID=UTC:20220520T210000
DTEND;TZID=UTC:20220521T010000
DTSTAMP:20260424T040333
CREATED:20220506T132925Z
LAST-MODIFIED:20220506T132925Z
UID:1308-1653080400-1653094800@theatria.ca
SUMMARY:Sarin\, Burdizzo\, DoomWhale\, FuttBuckers
DESCRIPTION:
URL:https://theatria.ca/event/sarin-burdizzo-doomwhale-futtbuckers/
END:VEVENT
BEGIN:VEVENT
DTSTART;TZID=UTC:20220521T210000
DTEND;TZID=UTC:20220522T010000
DTSTAMP:20260424T040333
CREATED:20220506T133053Z
LAST-MODIFIED:20220506T133053Z
UID:1310-1653166800-1653181200@theatria.ca
SUMMARY:VooDoo Shakedown\, Live Animals \, Howlin Gales
DESCRIPTION:
URL:https://theatria.ca/event/voodoo-shakedown-live-animals-howlin-gales/
END:VEVENT
END:VCALENDAR