BEGIN:VCALENDAR
VERSION:2.0
PRODID:-//The Atria - ECPv6.9.0//NONSGML v1.0//EN
CALSCALE:GREGORIAN
METHOD:PUBLISH
X-WR-CALNAME:The Atria
X-ORIGINAL-URL:https://theatria.ca
X-WR-CALDESC:Events for The Atria
REFRESH-INTERVAL;VALUE=DURATION:PT1H
X-Robots-Tag:noindex
X-PUBLISHED-TTL:PT1H
BEGIN:VTIMEZONE
TZID:UTC
BEGIN:STANDARD
TZOFFSETFROM:+0000
TZOFFSETTO:+0000
TZNAME:UTC
DTSTART:20250101T000000
END:STANDARD
END:VTIMEZONE
BEGIN:VEVENT
DTSTART;TZID=UTC:20251004T210000
DTEND;TZID=UTC:20251005T010000
DTSTAMP:20260419T185929
CREATED:20250828T233622Z
LAST-MODIFIED:20250828T233622Z
UID:2306-1759611600-1759626000@theatria.ca
SUMMARY:Deadly Romantics\, Shoemaker Levee\, Manic Boys & Girls
DESCRIPTION:
URL:https://theatria.ca/event/deadly-romantics-shoemaker-levee-manic-boys-girls/
END:VEVENT
END:VCALENDAR