BEGIN:VCALENDAR
VERSION:2.0
PRODID:-//The Atria - ECPv6.9.0//NONSGML v1.0//EN
CALSCALE:GREGORIAN
METHOD:PUBLISH
X-ORIGINAL-URL:https://theatria.ca
X-WR-CALDESC:Events for The Atria
REFRESH-INTERVAL;VALUE=DURATION:PT1H
X-Robots-Tag:noindex
X-PUBLISHED-TTL:PT1H
BEGIN:VTIMEZONE
TZID:UTC
BEGIN:STANDARD
TZOFFSETFROM:+0000
TZOFFSETTO:+0000
TZNAME:UTC
DTSTART:20250101T000000
END:STANDARD
END:VTIMEZONE
BEGIN:VEVENT
DTSTART;TZID=UTC:20250926T210000
DTEND;TZID=UTC:20250927T010000
DTSTAMP:20260419T202828
CREATED:20250828T232840Z
LAST-MODIFIED:20250828T232840Z
UID:2300-1758920400-1758934800@theatria.ca
SUMMARY:Cupids Heart\, Queens & Kings\, O Stella
DESCRIPTION:
URL:https://theatria.ca/event/cupids-heart-queens-kings-o-stella/
END:VEVENT
BEGIN:VEVENT
DTSTART;TZID=UTC:20250927T090000
DTEND;TZID=UTC:20250928T010000
DTSTAMP:20260419T202828
CREATED:20250828T233359Z
LAST-MODIFIED:20250828T233359Z
UID:2304-1758963600-1759021200@theatria.ca
SUMMARY:Godzilla was too Drunk to Destroy Tokyo
DESCRIPTION:
URL:https://theatria.ca/event/godzilla-was-too-drunk-to-destroy-tokyo/
END:VEVENT
END:VCALENDAR