BEGIN:VCALENDAR
VERSION:2.0
PRODID:-//The Atria - ECPv6.9.0//NONSGML v1.0//EN
CALSCALE:GREGORIAN
METHOD:PUBLISH
X-WR-CALNAME:The Atria
X-ORIGINAL-URL:https://theatria.ca
X-WR-CALDESC:Events for The Atria
REFRESH-INTERVAL;VALUE=DURATION:PT1H
X-Robots-Tag:noindex
X-PUBLISHED-TTL:PT1H
BEGIN:VTIMEZONE
TZID:UTC
BEGIN:STANDARD
TZOFFSETFROM:+0000
TZOFFSETTO:+0000
TZNAME:UTC
DTSTART:20250101T000000
END:STANDARD
END:VTIMEZONE
BEGIN:VEVENT
DTSTART;TZID=UTC:20250912T210000
DTEND;TZID=UTC:20250913T010000
DTSTAMP:20260419T202604
CREATED:20250828T232104Z
LAST-MODIFIED:20250828T232104Z
UID:2292-1757710800-1757725200@theatria.ca
SUMMARY:Colleen & The Bleeding Hearts
DESCRIPTION:
URL:https://theatria.ca/event/colleen-the-bleeding-hearts/
END:VEVENT
END:VCALENDAR