BEGIN:VCALENDAR
VERSION:2.0
PRODID:-//The Atria - ECPv6.9.0//NONSGML v1.0//EN
CALSCALE:GREGORIAN
METHOD:PUBLISH
X-ORIGINAL-URL:https://theatria.ca
X-WR-CALDESC:Events for The Atria
REFRESH-INTERVAL;VALUE=DURATION:PT1H
X-Robots-Tag:noindex
X-PUBLISHED-TTL:PT1H
BEGIN:VTIMEZONE
TZID:UTC
BEGIN:STANDARD
TZOFFSETFROM:+0000
TZOFFSETTO:+0000
TZNAME:UTC
DTSTART:20250101T000000
END:STANDARD
END:VTIMEZONE
BEGIN:VEVENT
DTSTART;TZID=UTC:20250307T203000
DTEND;TZID=UTC:20250308T010000
DTSTAMP:20260420T060119
CREATED:20250212T134728Z
LAST-MODIFIED:20250212T134728Z
UID:2189-1741379400-1741395600@theatria.ca
SUMMARY:Howlin Gales\, Far From Infamy\, Jules McCools\, Bad Friends with Black Cats
DESCRIPTION:
URL:https://theatria.ca/event/howlin-gales-far-from-infamy-jules-mccools-bad-friends-with-black-cats/
END:VEVENT
END:VCALENDAR