BEGIN:VCALENDAR
VERSION:2.0
PRODID:-//The Atria - ECPv6.9.0//NONSGML v1.0//EN
CALSCALE:GREGORIAN
METHOD:PUBLISH
X-WR-CALNAME:The Atria
X-ORIGINAL-URL:https://theatria.ca
X-WR-CALDESC:Events for The Atria
REFRESH-INTERVAL;VALUE=DURATION:PT1H
X-Robots-Tag:noindex
X-PUBLISHED-TTL:PT1H
BEGIN:VTIMEZONE
TZID:UTC
BEGIN:STANDARD
TZOFFSETFROM:+0000
TZOFFSETTO:+0000
TZNAME:UTC
DTSTART:20240101T000000
END:STANDARD
END:VTIMEZONE
BEGIN:VEVENT
DTSTART;TZID=UTC:20241019T210000
DTEND;TZID=UTC:20241020T010000
DTSTAMP:20260420T130119
CREATED:20240820T142244Z
LAST-MODIFIED:20241015T132828Z
UID:2070-1729371600-1729386000@theatria.ca
SUMMARY:Brave Strangers a tribute to Bob Seger & The Last of The Duke Street Kings- A tribute to Bruce Springsteen And Bob Se
DESCRIPTION:https://www.eventbrite.ca/e/bruce-springsteen-bob-seger-tribute-tickets-1014214030467?aff=oddtdtcreator
URL:https://theatria.ca/event/the-last-of-the-duke-street-kings-a-tribute-to-bruce-springsteen/
END:VEVENT
END:VCALENDAR