BEGIN:VCALENDAR
VERSION:2.0
PRODID:-//The Atria - ECPv6.9.0//NONSGML v1.0//EN
CALSCALE:GREGORIAN
METHOD:PUBLISH
X-WR-CALNAME:The Atria
X-ORIGINAL-URL:https://theatria.ca
X-WR-CALDESC:Events for The Atria
REFRESH-INTERVAL;VALUE=DURATION:PT1H
X-Robots-Tag:noindex
X-PUBLISHED-TTL:PT1H
BEGIN:VTIMEZONE
TZID:UTC
BEGIN:STANDARD
TZOFFSETFROM:+0000
TZOFFSETTO:+0000
TZNAME:UTC
DTSTART:20240101T000000
END:STANDARD
END:VTIMEZONE
BEGIN:VEVENT
DTSTART;TZID=UTC:20240928T210000
DTEND;TZID=UTC:20240929T010000
DTSTAMP:20260420T141209
CREATED:20240808T143100Z
LAST-MODIFIED:20240820T141833Z
UID:2049-1727557200-1727571600@theatria.ca
SUMMARY:Sublunox\, Stellar Ash\, My Own Addiction
DESCRIPTION:
URL:https://theatria.ca/event/sublunox-with-tba/
END:VEVENT
END:VCALENDAR