BEGIN:VCALENDAR
VERSION:2.0
PRODID:-//The Atria - ECPv6.9.0//NONSGML v1.0//EN
CALSCALE:GREGORIAN
METHOD:PUBLISH
X-WR-CALNAME:The Atria
X-ORIGINAL-URL:https://theatria.ca
X-WR-CALDESC:Events for The Atria
REFRESH-INTERVAL;VALUE=DURATION:PT1H
X-Robots-Tag:noindex
X-PUBLISHED-TTL:PT1H
BEGIN:VTIMEZONE
TZID:UTC
BEGIN:STANDARD
TZOFFSETFROM:+0000
TZOFFSETTO:+0000
TZNAME:UTC
DTSTART:20240101T000000
END:STANDARD
END:VTIMEZONE
BEGIN:VEVENT
DTSTART;TZID=UTC:20240926T210000
DTEND;TZID=UTC:20240927T010000
DTSTAMP:20260420T141227
CREATED:20240902T135830Z
LAST-MODIFIED:20240902T135830Z
UID:2089-1727384400-1727398800@theatria.ca
SUMMARY:The Devils Sons\, Bloody Blue Darlings\, Sydney Riley
DESCRIPTION:
URL:https://theatria.ca/event/the-devils-sons-bloody-blue-darlings-sydney-riley/
END:VEVENT
END:VCALENDAR