BEGIN:VCALENDAR
VERSION:2.0
PRODID:-//The Atria - ECPv6.9.0//NONSGML v1.0//EN
CALSCALE:GREGORIAN
METHOD:PUBLISH
X-ORIGINAL-URL:https://theatria.ca
X-WR-CALDESC:Events for The Atria
REFRESH-INTERVAL;VALUE=DURATION:PT1H
X-Robots-Tag:noindex
X-PUBLISHED-TTL:PT1H
BEGIN:VTIMEZONE
TZID:UTC
BEGIN:STANDARD
TZOFFSETFROM:+0000
TZOFFSETTO:+0000
TZNAME:UTC
DTSTART:20240101T000000
END:STANDARD
END:VTIMEZONE
BEGIN:VEVENT
DTSTART;TZID=UTC:20240920T210000
DTEND;TZID=UTC:20240921T210000
DTSTAMP:20260420T141406
CREATED:20240820T140956Z
LAST-MODIFIED:20240820T140956Z
UID:2065-1726866000-1726952400@theatria.ca
SUMMARY:Cadilac Blood \, 7 Day Riot\, The Ceremony
DESCRIPTION:
URL:https://theatria.ca/event/cadilac-blood-7-day-riot-the-ceremony/
END:VEVENT
BEGIN:VEVENT
DTSTART;TZID=UTC:20240921T200000
DTEND;TZID=UTC:20240922T010000
DTSTAMP:20260420T141406
CREATED:20240808T142633Z
LAST-MODIFIED:20240808T142633Z
UID:2044-1726948800-1726966800@theatria.ca
SUMMARY:Joan Smith and the Jane Does\, The Commune\, NERiMA
DESCRIPTION:
URL:https://theatria.ca/event/joan-smith-and-the-jane-does-the-commune-nerima/
END:VEVENT
END:VCALENDAR