BEGIN:VCALENDAR
VERSION:2.0
PRODID:-//The Atria - ECPv6.9.0//NONSGML v1.0//EN
CALSCALE:GREGORIAN
METHOD:PUBLISH
X-WR-CALNAME:The Atria
X-ORIGINAL-URL:https://theatria.ca
X-WR-CALDESC:Events for The Atria
REFRESH-INTERVAL;VALUE=DURATION:PT1H
X-Robots-Tag:noindex
X-PUBLISHED-TTL:PT1H
BEGIN:VTIMEZONE
TZID:UTC
BEGIN:STANDARD
TZOFFSETFROM:+0000
TZOFFSETTO:+0000
TZNAME:UTC
DTSTART:20240101T000000
END:STANDARD
END:VTIMEZONE
BEGIN:VEVENT
DTSTART;TZID=UTC:20240830T213000
DTEND;TZID=UTC:20240831T013000
DTSTAMP:20260420T140551
CREATED:20240808T140935Z
LAST-MODIFIED:20240808T140935Z
UID:2032-1725053400-1725067800@theatria.ca
SUMMARY:Something from Nothing a tribute to the Foo Fighters
DESCRIPTION:
URL:https://theatria.ca/event/something-from-nothing-a-tribute-to-the-foo-fighters-3/
END:VEVENT
END:VCALENDAR