BEGIN:VCALENDAR
VERSION:2.0
PRODID:-//The Atria - ECPv6.9.0//NONSGML v1.0//EN
CALSCALE:GREGORIAN
METHOD:PUBLISH
X-WR-CALNAME:The Atria
X-ORIGINAL-URL:https://theatria.ca
X-WR-CALDESC:Events for The Atria
REFRESH-INTERVAL;VALUE=DURATION:PT1H
X-Robots-Tag:noindex
X-PUBLISHED-TTL:PT1H
BEGIN:VTIMEZONE
TZID:UTC
BEGIN:STANDARD
TZOFFSETFROM:+0000
TZOFFSETTO:+0000
TZNAME:UTC
DTSTART:20240101T000000
END:STANDARD
END:VTIMEZONE
BEGIN:VEVENT
DTSTART;TZID=UTC:20240627T080000
DTEND;TZID=UTC:20240628T080000
DTSTAMP:20260420T182120
CREATED:20240623T122806Z
LAST-MODIFIED:20240623T122806Z
UID:1987-1719475200-1719561600@theatria.ca
SUMMARY:Korrosive with Dying Remains\, The Blood of Christ\, Vag Addiction\, Sentiment Dissolve
DESCRIPTION:
URL:https://theatria.ca/event/korrosive-with-dying-remains-the-blood-of-christ-vag-addiction-sentiment-dissolve/
END:VEVENT
END:VCALENDAR