BEGIN:VCALENDAR
VERSION:2.0
PRODID:-//The Atria - ECPv6.9.0//NONSGML v1.0//EN
CALSCALE:GREGORIAN
METHOD:PUBLISH
X-WR-CALNAME:The Atria
X-ORIGINAL-URL:https://theatria.ca
X-WR-CALDESC:Events for The Atria
REFRESH-INTERVAL;VALUE=DURATION:PT1H
X-Robots-Tag:noindex
X-PUBLISHED-TTL:PT1H
BEGIN:VTIMEZONE
TZID:UTC
BEGIN:STANDARD
TZOFFSETFROM:+0000
TZOFFSETTO:+0000
TZNAME:UTC
DTSTART:20240101T000000
END:STANDARD
END:VTIMEZONE
BEGIN:VEVENT
DTSTART;TZID=UTC:20240608T210000
DTEND;TZID=UTC:20240609T010000
DTSTAMP:20260420T182027
CREATED:20240601T231323Z
LAST-MODIFIED:20240601T231323Z
UID:1978-1717880400-1717894800@theatria.ca
SUMMARY:Rusty with East of Nowhere
DESCRIPTION:https://www.eventbrite.ca/e/886386735587?aff=oddtdtcreator
URL:https://theatria.ca/event/rusty-with-east-of-nowhere/
END:VEVENT
END:VCALENDAR