BEGIN:VCALENDAR
VERSION:2.0
PRODID:-//The Atria - ECPv6.9.0//NONSGML v1.0//EN
CALSCALE:GREGORIAN
METHOD:PUBLISH
X-ORIGINAL-URL:https://theatria.ca
X-WR-CALDESC:Events for The Atria
REFRESH-INTERVAL;VALUE=DURATION:PT1H
X-Robots-Tag:noindex
X-PUBLISHED-TTL:PT1H
BEGIN:VTIMEZONE
TZID:UTC
BEGIN:STANDARD
TZOFFSETFROM:+0000
TZOFFSETTO:+0000
TZNAME:UTC
DTSTART:20240101T000000
END:STANDARD
END:VTIMEZONE
BEGIN:VEVENT
DTSTART;TZID=UTC:20240413T210000
DTEND;TZID=UTC:20240414T010000
DTSTAMP:20260420T210223
CREATED:20240226T154632Z
LAST-MODIFIED:20240226T154632Z
UID:1930-1713042000-1713056400@theatria.ca
SUMMARY:Epitaph\, Rustic\, Ted Axe\, Manic Mouth
DESCRIPTION:
URL:https://theatria.ca/event/epitaph-rustic-ted-axe-manic-mouth/
END:VEVENT
END:VCALENDAR