BEGIN:VCALENDAR
VERSION:2.0
PRODID:-//The Atria - ECPv6.9.0//NONSGML v1.0//EN
CALSCALE:GREGORIAN
METHOD:PUBLISH
X-ORIGINAL-URL:https://theatria.ca
X-WR-CALDESC:Events for The Atria
REFRESH-INTERVAL;VALUE=DURATION:PT1H
X-Robots-Tag:noindex
X-PUBLISHED-TTL:PT1H
BEGIN:VTIMEZONE
TZID:UTC
BEGIN:STANDARD
TZOFFSETFROM:+0000
TZOFFSETTO:+0000
TZNAME:UTC
DTSTART:20240101T000000
END:STANDARD
END:VTIMEZONE
BEGIN:VEVENT
DTSTART;TZID=UTC:20240308T210000
DTEND;TZID=UTC:20240309T210000
DTSTAMP:20260420T223009
CREATED:20240226T150740Z
LAST-MODIFIED:20240226T150740Z
UID:1915-1709931600-1710018000@theatria.ca
SUMMARY:Incarnatus
DESCRIPTION:with God Helmet\, Diamond Weapon\, Out of Spite
URL:https://theatria.ca/event/incarnatus/
END:VEVENT
BEGIN:VEVENT
DTSTART;TZID=UTC:20240309T210000
DTEND;TZID=UTC:20240310T010000
DTSTAMP:20260420T223009
CREATED:20240226T151024Z
LAST-MODIFIED:20240226T151024Z
UID:1917-1710018000-1710032400@theatria.ca
SUMMARY:Xephyr\, Stereosol\, Burning Bridges\, Flidais\, The Lizard People
DESCRIPTION:
URL:https://theatria.ca/event/xephyr-stereosol-burning-bridges-flidais-the-lizard-people/
END:VEVENT
END:VCALENDAR