BEGIN:VCALENDAR
VERSION:2.0
PRODID:-//The Atria - ECPv6.9.0//NONSGML v1.0//EN
CALSCALE:GREGORIAN
METHOD:PUBLISH
X-WR-CALNAME:The Atria
X-ORIGINAL-URL:https://theatria.ca
X-WR-CALDESC:Events for The Atria
REFRESH-INTERVAL;VALUE=DURATION:PT1H
X-Robots-Tag:noindex
X-PUBLISHED-TTL:PT1H
BEGIN:VTIMEZONE
TZID:UTC
BEGIN:STANDARD
TZOFFSETFROM:+0000
TZOFFSETTO:+0000
TZNAME:UTC
DTSTART:20240101T000000
END:STANDARD
END:VTIMEZONE
BEGIN:VEVENT
DTSTART;TZID=UTC:20240223T210000
DTEND;TZID=UTC:20240224T210000
DTSTAMP:20260420T234252
CREATED:20231207T125704Z
LAST-MODIFIED:20231207T125704Z
UID:1849-1708722000-1708808400@theatria.ca
SUMMARY:The Reed Affect
DESCRIPTION:
URL:https://theatria.ca/event/the-reed-affect/
END:VEVENT
BEGIN:VEVENT
DTSTART;TZID=UTC:20240224T210000
DTEND;TZID=UTC:20240225T010000
DTSTAMP:20260420T234252
CREATED:20231017T144720Z
LAST-MODIFIED:20231017T144720Z
UID:1812-1708808400-1708822800@theatria.ca
SUMMARY:Dead Silence\, Doc Rock & the Assassins\, RevMatic
DESCRIPTION:
URL:https://theatria.ca/event/dead-silence-doc-rock-the-assassins-revmatic/
END:VEVENT
END:VCALENDAR