BEGIN:VCALENDAR
VERSION:2.0
PRODID:-//The Atria - ECPv6.9.0//NONSGML v1.0//EN
CALSCALE:GREGORIAN
METHOD:PUBLISH
X-WR-CALNAME:The Atria
X-ORIGINAL-URL:https://theatria.ca
X-WR-CALDESC:Events for The Atria
REFRESH-INTERVAL;VALUE=DURATION:PT1H
X-Robots-Tag:noindex
X-PUBLISHED-TTL:PT1H
BEGIN:VTIMEZONE
TZID:UTC
BEGIN:STANDARD
TZOFFSETFROM:+0000
TZOFFSETTO:+0000
TZNAME:UTC
DTSTART:20240101T000000
END:STANDARD
END:VTIMEZONE
BEGIN:VEVENT
DTSTART;TZID=UTC:20240119T210000
DTEND;TZID=UTC:20240120T010000
DTSTAMP:20260421T011054
CREATED:20231017T144400Z
LAST-MODIFIED:20231207T123231Z
UID:1804-1705698000-1705712400@theatria.ca
SUMMARY:something From Nothing
DESCRIPTION:A tribute to the Foo Fighters
URL:https://theatria.ca/event/something-from-nothing-2/
END:VEVENT
END:VCALENDAR