BEGIN:VCALENDAR
VERSION:2.0
PRODID:-//The Atria - ECPv6.9.0//NONSGML v1.0//EN
CALSCALE:GREGORIAN
METHOD:PUBLISH
X-ORIGINAL-URL:https://theatria.ca
X-WR-CALDESC:Events for The Atria
REFRESH-INTERVAL;VALUE=DURATION:PT1H
X-Robots-Tag:noindex
X-PUBLISHED-TTL:PT1H
BEGIN:VTIMEZONE
TZID:UTC
BEGIN:STANDARD
TZOFFSETFROM:+0000
TZOFFSETTO:+0000
TZNAME:UTC
DTSTART:20240101T000000
END:STANDARD
END:VTIMEZONE
BEGIN:VEVENT
DTSTART;TZID=UTC:20240105T210000
DTEND;TZID=UTC:20240106T010000
DTSTAMP:20260421T022311
CREATED:20231017T144246Z
LAST-MODIFIED:20231207T123725Z
UID:1802-1704488400-1704502800@theatria.ca
SUMMARY:Southwell\, Apricity
DESCRIPTION:
URL:https://theatria.ca/event/southwell/
END:VEVENT
END:VCALENDAR