BEGIN:VCALENDAR
VERSION:2.0
PRODID:-//The Atria - ECPv6.9.0//NONSGML v1.0//EN
CALSCALE:GREGORIAN
METHOD:PUBLISH
X-WR-CALNAME:The Atria
X-ORIGINAL-URL:https://theatria.ca
X-WR-CALDESC:Events for The Atria
REFRESH-INTERVAL;VALUE=DURATION:PT1H
X-Robots-Tag:noindex
X-PUBLISHED-TTL:PT1H
BEGIN:VTIMEZONE
TZID:UTC
BEGIN:STANDARD
TZOFFSETFROM:+0000
TZOFFSETTO:+0000
TZNAME:UTC
DTSTART:20230101T000000
END:STANDARD
END:VTIMEZONE
BEGIN:VEVENT
DTSTART;TZID=UTC:20231231T210000
DTEND;TZID=UTC:20240101T020000
DTSTAMP:20260421T024754
CREATED:20231116T152552Z
LAST-MODIFIED:20231116T152620Z
UID:1828-1704056400-1704074400@theatria.ca
SUMMARY:Nexus NYE 2024 upstairs from the Atria
DESCRIPTION:
URL:https://theatria.ca/event/nexus-nye-2024/
END:VEVENT
BEGIN:VEVENT
DTSTART;TZID=UTC:20231231T220000
DTEND;TZID=UTC:20240101T020000
DTSTAMP:20260421T024754
CREATED:20231017T144109Z
LAST-MODIFIED:20231017T144109Z
UID:1799-1704060000-1704074400@theatria.ca
SUMMARY:Stone Temple 90's
DESCRIPTION:
URL:https://theatria.ca/event/stone-temple-90s-4/
END:VEVENT
END:VCALENDAR