BEGIN:VCALENDAR
VERSION:2.0
PRODID:-//The Atria - ECPv6.9.0//NONSGML v1.0//EN
CALSCALE:GREGORIAN
METHOD:PUBLISH
X-ORIGINAL-URL:https://theatria.ca
X-WR-CALDESC:Events for The Atria
REFRESH-INTERVAL;VALUE=DURATION:PT1H
X-Robots-Tag:noindex
X-PUBLISHED-TTL:PT1H
BEGIN:VTIMEZONE
TZID:UTC
BEGIN:STANDARD
TZOFFSETFROM:+0000
TZOFFSETTO:+0000
TZNAME:UTC
DTSTART:20230101T000000
END:STANDARD
END:VTIMEZONE
BEGIN:VEVENT
DTSTART;TZID=UTC:20231215T210000
DTEND;TZID=UTC:20231216T010000
DTSTAMP:20260421T024952
CREATED:20231017T143543Z
LAST-MODIFIED:20231017T143543Z
UID:1791-1702674000-1702688400@theatria.ca
SUMMARY:Koncept\, Jordan ID\, Jules Mc Cools
DESCRIPTION:
URL:https://theatria.ca/event/koncept-jordan-id-jules-mc-cools/
END:VEVENT
END:VCALENDAR