BEGIN:VCALENDAR
VERSION:2.0
PRODID:-//The Atria - ECPv6.9.0//NONSGML v1.0//EN
CALSCALE:GREGORIAN
METHOD:PUBLISH
X-WR-CALNAME:The Atria
X-ORIGINAL-URL:https://theatria.ca
X-WR-CALDESC:Events for The Atria
REFRESH-INTERVAL;VALUE=DURATION:PT1H
X-Robots-Tag:noindex
X-PUBLISHED-TTL:PT1H
BEGIN:VTIMEZONE
TZID:UTC
BEGIN:STANDARD
TZOFFSETFROM:+0000
TZOFFSETTO:+0000
TZNAME:UTC
DTSTART:20230101T000000
END:STANDARD
END:VTIMEZONE
BEGIN:VEVENT
DTSTART;TZID=UTC:20231209T210000
DTEND;TZID=UTC:20231210T010000
DTSTAMP:20260421T024825
CREATED:20231017T143420Z
LAST-MODIFIED:20231017T143420Z
UID:1789-1702155600-1702170000@theatria.ca
SUMMARY:Far From Infamy\, BYRDY\, Contour
DESCRIPTION:
URL:https://theatria.ca/event/far-from-infamy-byrdy-contour/
END:VEVENT
END:VCALENDAR