BEGIN:VCALENDAR
VERSION:2.0
PRODID:-//The Atria - ECPv6.9.0//NONSGML v1.0//EN
CALSCALE:GREGORIAN
METHOD:PUBLISH
X-WR-CALNAME:The Atria
X-ORIGINAL-URL:https://theatria.ca
X-WR-CALDESC:Events for The Atria
REFRESH-INTERVAL;VALUE=DURATION:PT1H
X-Robots-Tag:noindex
X-PUBLISHED-TTL:PT1H
BEGIN:VTIMEZONE
TZID:UTC
BEGIN:STANDARD
TZOFFSETFROM:+0000
TZOFFSETTO:+0000
TZNAME:UTC
DTSTART:20230101T000000
END:STANDARD
END:VTIMEZONE
BEGIN:VEVENT
DTSTART;TZID=UTC:20231125T140000
DTEND;TZID=UTC:20231125T180000
DTSTAMP:20260421T041440
CREATED:20231017T142907Z
LAST-MODIFIED:20231025T164346Z
UID:1783-1700920800-1700935200@theatria.ca
SUMMARY:Life of Exile\, Incoming Sun
DESCRIPTION:This is an all ages event from 2-6 pm
URL:https://theatria.ca/event/life-of-exile-incoming-sun/
END:VEVENT
BEGIN:VEVENT
DTSTART;TZID=UTC:20231125T210000
DTEND;TZID=UTC:20231126T010000
DTSTAMP:20260421T041440
CREATED:20231017T142642Z
LAST-MODIFIED:20231017T142642Z
UID:1781-1700946000-1700960400@theatria.ca
SUMMARY:Stone Temple 90's
DESCRIPTION:A tribute to the Stone Temple Pilots and the 90’s Grunge era
URL:https://theatria.ca/event/stone-temple-90s-3/
END:VEVENT
END:VCALENDAR