BEGIN:VCALENDAR
VERSION:2.0
PRODID:-//The Atria - ECPv6.9.0//NONSGML v1.0//EN
CALSCALE:GREGORIAN
METHOD:PUBLISH
X-WR-CALNAME:The Atria
X-ORIGINAL-URL:https://theatria.ca
X-WR-CALDESC:Events for The Atria
REFRESH-INTERVAL;VALUE=DURATION:PT1H
X-Robots-Tag:noindex
X-PUBLISHED-TTL:PT1H
BEGIN:VTIMEZONE
TZID:UTC
BEGIN:STANDARD
TZOFFSETFROM:+0000
TZOFFSETTO:+0000
TZNAME:UTC
DTSTART:20230101T000000
END:STANDARD
END:VTIMEZONE
BEGIN:VEVENT
DTSTART;TZID=UTC:20231104T210000
DTEND;TZID=UTC:20231105T010000
DTSTAMP:20260421T041719
CREATED:20231017T141522Z
LAST-MODIFIED:20231017T141522Z
UID:1767-1699131600-1699146000@theatria.ca
SUMMARY:Xero Tolerance\, CNTRL\, Incarnatus
DESCRIPTION:Xero Tolerance- performing Bloody Kisses in its entirety
URL:https://theatria.ca/event/xero-tolerance-cntrl-incarnatus/
END:VEVENT
END:VCALENDAR