BEGIN:VCALENDAR
VERSION:2.0
PRODID:-//The Atria - ECPv6.9.0//NONSGML v1.0//EN
CALSCALE:GREGORIAN
METHOD:PUBLISH
X-ORIGINAL-URL:https://theatria.ca
X-WR-CALDESC:Events for The Atria
REFRESH-INTERVAL;VALUE=DURATION:PT1H
X-Robots-Tag:noindex
X-PUBLISHED-TTL:PT1H
BEGIN:VTIMEZONE
TZID:UTC
BEGIN:STANDARD
TZOFFSETFROM:+0000
TZOFFSETTO:+0000
TZNAME:UTC
DTSTART:20230101T000000
END:STANDARD
END:VTIMEZONE
BEGIN:VEVENT
DTSTART;TZID=UTC:20230722T210000
DTEND;TZID=UTC:20230723T010000
DTSTAMP:20260423T100040
CREATED:20230711T161914Z
LAST-MODIFIED:20230711T161914Z
UID:1710-1690059600-1690074000@theatria.ca
SUMMARY:Hell is Other People\, Pillars of Autumn\, In the Act of Violence\, Seagrave\, Incarnatus
DESCRIPTION:
URL:https://theatria.ca/event/hell-is-other-people-pillars-of-autumn-in-the-act-of-violence-seagrave-incarnatus/
END:VEVENT
END:VCALENDAR