BEGIN:VCALENDAR
VERSION:2.0
PRODID:-//The Atria - ECPv6.9.0//NONSGML v1.0//EN
CALSCALE:GREGORIAN
METHOD:PUBLISH
X-ORIGINAL-URL:https://theatria.ca
X-WR-CALDESC:Events for The Atria
REFRESH-INTERVAL;VALUE=DURATION:PT1H
X-Robots-Tag:noindex
X-PUBLISHED-TTL:PT1H
BEGIN:VTIMEZONE
TZID:UTC
BEGIN:STANDARD
TZOFFSETFROM:+0000
TZOFFSETTO:+0000
TZNAME:UTC
DTSTART:20230101T000000
END:STANDARD
END:VTIMEZONE
BEGIN:VEVENT
DTSTART;TZID=UTC:20230720T210000
DTEND;TZID=UTC:20230721T010000
DTSTAMP:20260423T100141
CREATED:20230711T162403Z
LAST-MODIFIED:20230711T162548Z
UID:1712-1689886800-1689901200@theatria.ca
SUMMARY:The Nailheads\, Wasting Time\, Fast Eddie
DESCRIPTION:
URL:https://theatria.ca/event/the-nailheads-wasting-time-fast-eddie/
END:VEVENT
END:VCALENDAR