BEGIN:VCALENDAR
VERSION:2.0
PRODID:-//The Atria - ECPv6.9.0//NONSGML v1.0//EN
CALSCALE:GREGORIAN
METHOD:PUBLISH
X-WR-CALNAME:The Atria
X-ORIGINAL-URL:https://theatria.ca
X-WR-CALDESC:Events for The Atria
REFRESH-INTERVAL;VALUE=DURATION:PT1H
X-Robots-Tag:noindex
X-PUBLISHED-TTL:PT1H
BEGIN:VTIMEZONE
TZID:UTC
BEGIN:STANDARD
TZOFFSETFROM:+0000
TZOFFSETTO:+0000
TZNAME:UTC
DTSTART:20230101T000000
END:STANDARD
END:VTIMEZONE
BEGIN:VEVENT
DTSTART;TZID=UTC:20230712T210000
DTEND;TZID=UTC:20230713T010000
DTSTAMP:20260423T095924
CREATED:20230530T115533Z
LAST-MODIFIED:20230530T115533Z
UID:1700-1689195600-1689210000@theatria.ca
SUMMARY:The Black Void \, Gaijin Smash Jerkoff Diary
DESCRIPTION:
URL:https://theatria.ca/event/the-black-void-gaijin-smash-jerkoff-diary/
END:VEVENT
END:VCALENDAR