BEGIN:VCALENDAR
VERSION:2.0
PRODID:-//The Atria - ECPv6.9.0//NONSGML v1.0//EN
CALSCALE:GREGORIAN
METHOD:PUBLISH
X-WR-CALNAME:The Atria
X-ORIGINAL-URL:https://theatria.ca
X-WR-CALDESC:Events for The Atria
REFRESH-INTERVAL;VALUE=DURATION:PT1H
X-Robots-Tag:noindex
X-PUBLISHED-TTL:PT1H
BEGIN:VTIMEZONE
TZID:UTC
BEGIN:STANDARD
TZOFFSETFROM:+0000
TZOFFSETTO:+0000
TZNAME:UTC
DTSTART:20230101T000000
END:STANDARD
END:VTIMEZONE
BEGIN:VEVENT
DTSTART;TZID=UTC:20230428T210000
DTEND;TZID=UTC:20230429T010000
DTSTAMP:20260423T142902
CREATED:20230213T171159Z
LAST-MODIFIED:20230228T145351Z
UID:1657-1682715600-1682730000@theatria.ca
SUMMARY:7 day Riot\, Highteens\, Locust Hill
DESCRIPTION:
URL:https://theatria.ca/event/7-day-riot/
END:VEVENT
END:VCALENDAR