BEGIN:VCALENDAR
VERSION:2.0
PRODID:-//The Atria - ECPv6.9.0//NONSGML v1.0//EN
CALSCALE:GREGORIAN
METHOD:PUBLISH
X-ORIGINAL-URL:https://theatria.ca
X-WR-CALDESC:Events for The Atria
REFRESH-INTERVAL;VALUE=DURATION:PT1H
X-Robots-Tag:noindex
X-PUBLISHED-TTL:PT1H
BEGIN:VTIMEZONE
TZID:UTC
BEGIN:STANDARD
TZOFFSETFROM:+0000
TZOFFSETTO:+0000
TZNAME:UTC
DTSTART:20230101T000000
END:STANDARD
END:VTIMEZONE
BEGIN:VEVENT
DTSTART;TZID=UTC:20230421T210000
DTEND;TZID=UTC:20230422T010000
DTSTAMP:20260423T143226
CREATED:20230213T170852Z
LAST-MODIFIED:20230213T170852Z
UID:1655-1682110800-1682125200@theatria.ca
SUMMARY:Howlin Gales
DESCRIPTION:
URL:https://theatria.ca/event/howlin-gales-3/
END:VEVENT
END:VCALENDAR