BEGIN:VCALENDAR
VERSION:2.0
PRODID:-//The Atria - ECPv6.9.0//NONSGML v1.0//EN
CALSCALE:GREGORIAN
METHOD:PUBLISH
X-WR-CALNAME:The Atria
X-ORIGINAL-URL:https://theatria.ca
X-WR-CALDESC:Events for The Atria
REFRESH-INTERVAL;VALUE=DURATION:PT1H
X-Robots-Tag:noindex
X-PUBLISHED-TTL:PT1H
BEGIN:VTIMEZONE
TZID:UTC
BEGIN:STANDARD
TZOFFSETFROM:+0000
TZOFFSETTO:+0000
TZNAME:UTC
DTSTART:20230101T000000
END:STANDARD
END:VTIMEZONE
BEGIN:VEVENT
DTSTART;TZID=UTC:20230318T210000
DTEND;TZID=UTC:20230319T010000
DTSTAMP:20260423T154042
CREATED:20230123T145913Z
LAST-MODIFIED:20230123T150018Z
UID:1610-1679173200-1679187600@theatria.ca
SUMMARY:Stand Against Fear
DESCRIPTION:
URL:https://theatria.ca/event/stand-against-fear/
END:VEVENT
END:VCALENDAR