BEGIN:VCALENDAR
VERSION:2.0
PRODID:-//The Atria - ECPv6.9.0//NONSGML v1.0//EN
CALSCALE:GREGORIAN
METHOD:PUBLISH
X-WR-CALNAME:The Atria
X-ORIGINAL-URL:https://theatria.ca
X-WR-CALDESC:Events for The Atria
REFRESH-INTERVAL;VALUE=DURATION:PT1H
X-Robots-Tag:noindex
X-PUBLISHED-TTL:PT1H
BEGIN:VTIMEZONE
TZID:UTC
BEGIN:STANDARD
TZOFFSETFROM:+0000
TZOFFSETTO:+0000
TZNAME:UTC
DTSTART:20230101T000000
END:STANDARD
END:VTIMEZONE
BEGIN:VEVENT
DTSTART;TZID=UTC:20230224T210000
DTEND;TZID=UTC:20230225T010000
DTSTAMP:20260423T165855
CREATED:20230213T164940Z
LAST-MODIFIED:20230213T165530Z
UID:1645-1677272400-1677286800@theatria.ca
SUMMARY:Permanent Waves a tribute to RUSH
DESCRIPTION:
URL:https://theatria.ca/event/permanent-waves-a-tribute-to-rush/
END:VEVENT
END:VCALENDAR