BEGIN:VCALENDAR
VERSION:2.0
PRODID:-//The Atria - ECPv6.9.0//NONSGML v1.0//EN
CALSCALE:GREGORIAN
METHOD:PUBLISH
X-WR-CALNAME:The Atria
X-ORIGINAL-URL:https://theatria.ca
X-WR-CALDESC:Events for The Atria
REFRESH-INTERVAL;VALUE=DURATION:PT1H
X-Robots-Tag:noindex
X-PUBLISHED-TTL:PT1H
BEGIN:VTIMEZONE
TZID:UTC
BEGIN:STANDARD
TZOFFSETFROM:+0000
TZOFFSETTO:+0000
TZNAME:UTC
DTSTART:20230101T000000
END:STANDARD
END:VTIMEZONE
BEGIN:VEVENT
DTSTART;TZID=UTC:20230211T210000
DTEND;TZID=UTC:20230212T010000
DTSTAMP:20260423T165851
CREATED:20230123T142711Z
LAST-MODIFIED:20230123T142711Z
UID:1592-1676149200-1676163600@theatria.ca
SUMMARY:Heavy Head\, Chris Caduret\, Jake Feeny
DESCRIPTION:
URL:https://theatria.ca/event/heavy-head-chris-caduret-jake-feeny/
END:VEVENT
BEGIN:VEVENT
DTSTART;TZID=UTC:20230211T210000
DTEND;TZID=UTC:20230212T010000
DTSTAMP:20260423T165851
CREATED:20230123T143926Z
LAST-MODIFIED:20230204T192008Z
UID:1594-1676149200-1676163600@theatria.ca
SUMMARY:Koncept of Light\, The Veldt\, Byrdy
DESCRIPTION:
URL:https://theatria.ca/event/koncept-of-light-the-veldt/
END:VEVENT
END:VCALENDAR