BEGIN:VCALENDAR
VERSION:2.0
PRODID:-//The Atria - ECPv6.9.0//NONSGML v1.0//EN
CALSCALE:GREGORIAN
METHOD:PUBLISH
X-ORIGINAL-URL:https://theatria.ca
X-WR-CALDESC:Events for The Atria
REFRESH-INTERVAL;VALUE=DURATION:PT1H
X-Robots-Tag:noindex
X-PUBLISHED-TTL:PT1H
BEGIN:VTIMEZONE
TZID:UTC
BEGIN:STANDARD
TZOFFSETFROM:+0000
TZOFFSETTO:+0000
TZNAME:UTC
DTSTART:20210101T000000
END:STANDARD
END:VTIMEZONE
BEGIN:VEVENT
DTSTART;TZID=UTC:20211217T210000
DTEND;TZID=UTC:20211218T210000
DTSTAMP:20260424T140155
CREATED:20211201T140434Z
LAST-MODIFIED:20211201T140434Z
UID:1279-1639774800-1639861200@theatria.ca
SUMMARY:7 Day Riot\, Dead Silence\, God Helmut\, Skeleton Lake
DESCRIPTION:
URL:https://theatria.ca/event/7-day-riot-dead-silence-god-helmut-skeleton-lake/
END:VEVENT
BEGIN:VEVENT
DTSTART;TZID=UTC:20211218T213000
DTEND;TZID=UTC:20211219T213000
DTSTAMP:20260424T140155
CREATED:20211201T140521Z
LAST-MODIFIED:20211201T140521Z
UID:1281-1639863000-1639949400@theatria.ca
SUMMARY:The Metal Detectors
DESCRIPTION:
URL:https://theatria.ca/event/the-metal-detectors-3/
END:VEVENT
END:VCALENDAR