BEGIN:VCALENDAR
VERSION:2.0
PRODID:-//The Atria - ECPv6.9.0//NONSGML v1.0//EN
CALSCALE:GREGORIAN
METHOD:PUBLISH
X-ORIGINAL-URL:https://theatria.ca
X-WR-CALDESC:Events for The Atria
REFRESH-INTERVAL;VALUE=DURATION:PT1H
X-Robots-Tag:noindex
X-PUBLISHED-TTL:PT1H
BEGIN:VTIMEZONE
TZID:UTC
BEGIN:STANDARD
TZOFFSETFROM:+0000
TZOFFSETTO:+0000
TZNAME:UTC
DTSTART:20200101T000000
END:STANDARD
END:VTIMEZONE
BEGIN:VEVENT
DTSTART;TZID=UTC:20200408T220000
DTEND;TZID=UTC:20200608T010000
DTSTAMP:20260425T175023
CREATED:20200208T141459Z
LAST-MODIFIED:20200208T141459Z
UID:1247-1586383200-1591578000@theatria.ca
SUMMARY:Jesse Reynolds
DESCRIPTION:
URL:https://theatria.ca/event/jesse-reynolds/
END:VEVENT
BEGIN:VEVENT
DTSTART;TZID=UTC:20200425T210000
DTEND;TZID=UTC:20200426T020000
DTSTAMP:20260425T175023
CREATED:20200304T000331Z
LAST-MODIFIED:20200304T000331Z
UID:1253-1587848400-1587866400@theatria.ca
SUMMARY:Paralysis\, Hotel Murder\, Choices Made\, Colors Fade\, Hitch and Go\, Debt Cemetary\, At this Point\, Hangtime
DESCRIPTION:
URL:https://theatria.ca/event/paralysis-hotel-murder-choices-made-colors-fade-hitch-and-go-debt-cemetary-at-this-point-hangtime/
END:VEVENT
END:VCALENDAR