BEGIN:VCALENDAR
VERSION:2.0
PRODID:-//The Atria - ECPv6.9.0//NONSGML v1.0//EN
CALSCALE:GREGORIAN
METHOD:PUBLISH
X-WR-CALNAME:The Atria
X-ORIGINAL-URL:https://theatria.ca
X-WR-CALDESC:Events for The Atria
REFRESH-INTERVAL;VALUE=DURATION:PT1H
X-Robots-Tag:noindex
X-PUBLISHED-TTL:PT1H
BEGIN:VTIMEZONE
TZID:UTC
BEGIN:STANDARD
TZOFFSETFROM:+0000
TZOFFSETTO:+0000
TZNAME:UTC
DTSTART:20200101T000000
END:STANDARD
END:VTIMEZONE
BEGIN:VEVENT
DTSTART;TZID=UTC:20200221T093000
DTEND;TZID=UTC:20200222T010000
DTSTAMP:20260425T202721
CREATED:20200114T150101Z
LAST-MODIFIED:20200114T150223Z
UID:1231-1582277400-1582333200@theatria.ca
SUMMARY:Don't Tell Sarah\, Cigar Hurt Babies @ the Diezel Room
DESCRIPTION:
URL:https://theatria.ca/event/dont-tell-sarah-cigar-hurt-babies/
END:VEVENT
END:VCALENDAR